BEGIN:VCALENDAR
VERSION:2.0
PRODID:-//The Arts Commission of Danville / Boyle County - ECPv6.15.20//NONSGML v1.0//EN
CALSCALE:GREGORIAN
METHOD:PUBLISH
X-ORIGINAL-URL:https://www.danvillearts.org
X-WR-CALDESC:Events for The Arts Commission of Danville / Boyle County
REFRESH-INTERVAL;VALUE=DURATION:PT1H
X-Robots-Tag:noindex
X-PUBLISHED-TTL:PT1H
BEGIN:VTIMEZONE
TZID:America/Kentucky/Louisville
BEGIN:DAYLIGHT
TZOFFSETFROM:-0500
TZOFFSETTO:-0400
TZNAME:EDT
DTSTART:20170312T070000
END:DAYLIGHT
BEGIN:STANDARD
TZOFFSETFROM:-0400
TZOFFSETTO:-0500
TZNAME:EST
DTSTART:20171105T060000
END:STANDARD
BEGIN:DAYLIGHT
TZOFFSETFROM:-0500
TZOFFSETTO:-0400
TZNAME:EDT
DTSTART:20180311T070000
END:DAYLIGHT
BEGIN:STANDARD
TZOFFSETFROM:-0400
TZOFFSETTO:-0500
TZNAME:EST
DTSTART:20181104T060000
END:STANDARD
BEGIN:DAYLIGHT
TZOFFSETFROM:-0500
TZOFFSETTO:-0400
TZNAME:EDT
DTSTART:20190310T070000
END:DAYLIGHT
BEGIN:STANDARD
TZOFFSETFROM:-0400
TZOFFSETTO:-0500
TZNAME:EST
DTSTART:20191103T060000
END:STANDARD
BEGIN:DAYLIGHT
TZOFFSETFROM:-0500
TZOFFSETTO:-0400
TZNAME:EDT
DTSTART:20200308T070000
END:DAYLIGHT
BEGIN:STANDARD
TZOFFSETFROM:-0400
TZOFFSETTO:-0500
TZNAME:EST
DTSTART:20201101T060000
END:STANDARD
BEGIN:DAYLIGHT
TZOFFSETFROM:-0500
TZOFFSETTO:-0400
TZNAME:EDT
DTSTART:20210314T070000
END:DAYLIGHT
BEGIN:STANDARD
TZOFFSETFROM:-0400
TZOFFSETTO:-0500
TZNAME:EST
DTSTART:20211107T060000
END:STANDARD
BEGIN:DAYLIGHT
TZOFFSETFROM:-0500
TZOFFSETTO:-0400
TZNAME:EDT
DTSTART:20220313T070000
END:DAYLIGHT
BEGIN:STANDARD
TZOFFSETFROM:-0400
TZOFFSETTO:-0500
TZNAME:EST
DTSTART:20221106T060000
END:STANDARD
BEGIN:DAYLIGHT
TZOFFSETFROM:-0500
TZOFFSETTO:-0400
TZNAME:EDT
DTSTART:20230312T070000
END:DAYLIGHT
BEGIN:STANDARD
TZOFFSETFROM:-0400
TZOFFSETTO:-0500
TZNAME:EST
DTSTART:20231105T060000
END:STANDARD
BEGIN:DAYLIGHT
TZOFFSETFROM:-0500
TZOFFSETTO:-0400
TZNAME:EDT
DTSTART:20240310T070000
END:DAYLIGHT
BEGIN:STANDARD
TZOFFSETFROM:-0400
TZOFFSETTO:-0500
TZNAME:EST
DTSTART:20241103T060000
END:STANDARD
BEGIN:DAYLIGHT
TZOFFSETFROM:-0500
TZOFFSETTO:-0400
TZNAME:EDT
DTSTART:20250309T070000
END:DAYLIGHT
BEGIN:STANDARD
TZOFFSETFROM:-0400
TZOFFSETTO:-0500
TZNAME:EST
DTSTART:20251102T060000
END:STANDARD
BEGIN:DAYLIGHT
TZOFFSETFROM:-0500
TZOFFSETTO:-0400
TZNAME:EDT
DTSTART:20260308T070000
END:DAYLIGHT
BEGIN:STANDARD
TZOFFSETFROM:-0400
TZOFFSETTO:-0500
TZNAME:EST
DTSTART:20261101T060000
END:STANDARD
END:VTIMEZONE
BEGIN:VEVENT
DTSTART;VALUE=DATE:20241206
DTEND;VALUE=DATE:20241207
DTSTAMP:20260420T033016
CREATED:20241125T175049Z
LAST-MODIFIED:20241125T175049Z
UID:3333-1733443200-1733529599@www.danvillearts.org
SUMMARY:BlueGrass Good Giving -  last day!
DESCRIPTION:  \n \nThe Arts Commission’s Louise Wilkinson Grant provides funds to local high schools to purchase materials for special art projects.  The projects are designed to incorporate multiple level students\, original designs\, and repurposed materials.  The final project must be displayed publicly somehow in the community.  Your donation to the Arts Commission helps continue and expand these unique experiences for students.  A donation during BlueGrass Good Giving may even be matched.  Check out the December Newsletter for more details.  Log onto bggives.org and enter Arts Commission to donate.
URL:https://www.danvillearts.org/event/bluegrass-good-giving-last-day/
CATEGORIES:All
END:VEVENT
BEGIN:VEVENT
DTSTART;TZID=America/Kentucky/Louisville:20181112T173000
DTEND;TZID=America/Kentucky/Louisville:20181112T173000
DTSTAMP:20260420T033016
CREATED:20181101T153929Z
LAST-MODIFIED:20190210T191443Z
UID:1439-1542043800-1542043800@www.danvillearts.org
SUMMARY:Writer's Group
DESCRIPTION:Regular monthly meeting – new members are welcome.
URL:https://www.danvillearts.org/event/writers-group-3/
CATEGORIES:All,Community Events
END:VEVENT
BEGIN:VEVENT
DTSTART;TZID=America/Kentucky/Louisville:20210909T075000
DTEND;TZID=America/Kentucky/Louisville:20210909T075500
DTSTAMP:20260420T033016
CREATED:20210902T150148Z
LAST-MODIFIED:20241212T153951Z
UID:2248-1631173800-1631174100@www.danvillearts.org
SUMMARY:Arts Commission on Joe Show
DESCRIPTION:Check out the latest from the Arts Commission. \nThe Joe Show with Joe Mathis \nWHIR FM 103.9/AM 1230
URL:https://www.danvillearts.org/event/arts-commission-on-joe-show/
CATEGORIES:All,Arts Commission
END:VEVENT
BEGIN:VEVENT
DTSTART;TZID=America/Kentucky/Louisville:20181208T101500
DTEND;TZID=America/Kentucky/Louisville:20181208T101500
DTSTAMP:20260420T033016
CREATED:20181128T171300Z
LAST-MODIFIED:20181128T171300Z
UID:1500-1544264100-1544264100@www.danvillearts.org
SUMMARY:Gathering Artists
DESCRIPTION:Regular monthly meeting\, open to all interested artists.
URL:https://www.danvillearts.org/event/gathering-artists-4/
LOCATION:Community Arts Center\, 401 West Main St.
CATEGORIES:All,Artists' Programs
END:VEVENT
BEGIN:VEVENT
DTSTART;TZID=America/Kentucky/Louisville:20210909T075000
DTEND;TZID=America/Kentucky/Louisville:20210909T075500
DTSTAMP:20260420T033016
CREATED:20210902T150148Z
LAST-MODIFIED:20241212T153951Z
UID:2248-1631173800-1631174100@www.danvillearts.org
SUMMARY:Arts Commission on Joe Show
DESCRIPTION:Check out the latest from the Arts Commission. \nThe Joe Show with Joe Mathis \nWHIR FM 103.9/AM 1230
URL:https://www.danvillearts.org/event/arts-commission-on-joe-show/
CATEGORIES:All,Arts Commission
END:VEVENT
BEGIN:VEVENT
DTSTART;TZID=America/Kentucky/Louisville:20210909T075000
DTEND;TZID=America/Kentucky/Louisville:20210909T075500
DTSTAMP:20260420T033016
CREATED:20210902T150148Z
LAST-MODIFIED:20241212T153951Z
UID:2248-1631173800-1631174100@www.danvillearts.org
SUMMARY:Arts Commission on Joe Show
DESCRIPTION:Check out the latest from the Arts Commission. \nThe Joe Show with Joe Mathis \nWHIR FM 103.9/AM 1230
URL:https://www.danvillearts.org/event/arts-commission-on-joe-show/
CATEGORIES:All,Arts Commission
END:VEVENT
BEGIN:VEVENT
DTSTART;TZID=America/Kentucky/Louisville:20250101T080000
DTEND;TZID=America/Kentucky/Louisville:20250101T170000
DTSTAMP:20260420T033016
CREATED:20241229T185004Z
LAST-MODIFIED:20241229T185207Z
UID:3786-1735718400-1735750800@www.danvillearts.org
SUMMARY:test
DESCRIPTION:test
URL:https://www.danvillearts.org/event/test/
END:VEVENT
BEGIN:VEVENT
DTSTART;TZID=America/Kentucky/Louisville:20210909T075000
DTEND;TZID=America/Kentucky/Louisville:20210909T075500
DTSTAMP:20260420T033016
CREATED:20210902T150148Z
LAST-MODIFIED:20241212T153951Z
UID:2248-1631173800-1631174100@www.danvillearts.org
SUMMARY:Arts Commission on Joe Show
DESCRIPTION:Check out the latest from the Arts Commission. \nThe Joe Show with Joe Mathis \nWHIR FM 103.9/AM 1230
URL:https://www.danvillearts.org/event/arts-commission-on-joe-show/
CATEGORIES:All,Arts Commission
END:VEVENT
BEGIN:VEVENT
DTSTART;TZID=America/Kentucky/Louisville:20210909T075000
DTEND;TZID=America/Kentucky/Louisville:20210909T075500
DTSTAMP:20260420T033016
CREATED:20210902T150148Z
LAST-MODIFIED:20241212T153951Z
UID:2248-1631173800-1631174100@www.danvillearts.org
SUMMARY:Arts Commission on Joe Show
DESCRIPTION:Check out the latest from the Arts Commission. \nThe Joe Show with Joe Mathis \nWHIR FM 103.9/AM 1230
URL:https://www.danvillearts.org/event/arts-commission-on-joe-show/
CATEGORIES:All,Arts Commission
END:VEVENT
BEGIN:VEVENT
DTSTART;TZID=America/Kentucky/Louisville:20250109T190000
DTEND;TZID=America/Kentucky/Louisville:20250109T203000
DTSTAMP:20260420T033016
CREATED:20241219T175627Z
LAST-MODIFIED:20241219T175627Z
UID:3582-1736449200-1736454600@www.danvillearts.org
SUMMARY:Sounding Joy Women's Choir
DESCRIPTION:First rehearsal of 2025 Spring season. Contact Barbara Hall at barbara.hall@centre.edu for more information.
URL:https://www.danvillearts.org/event/sounding-joy-womens-choir-2/
LOCATION:Grant 114 Gillespie Recital Hall\, Norton Center\, Danville
END:VEVENT
BEGIN:VEVENT
DTSTART;TZID=America/Kentucky/Louisville:20181208T101500
DTEND;TZID=America/Kentucky/Louisville:20181208T101500
DTSTAMP:20260420T033016
CREATED:20181128T171300Z
LAST-MODIFIED:20181128T171300Z
UID:1500-1544264100-1544264100@www.danvillearts.org
SUMMARY:Gathering Artists
DESCRIPTION:Regular monthly meeting\, open to all interested artists.
URL:https://www.danvillearts.org/event/gathering-artists-4/
LOCATION:Community Arts Center\, 401 West Main St.
CATEGORIES:All,Artists' Programs
END:VEVENT
BEGIN:VEVENT
DTSTART;TZID=America/Kentucky/Louisville:20181112T173000
DTEND;TZID=America/Kentucky/Louisville:20181112T173000
DTSTAMP:20260420T033016
CREATED:20181101T153929Z
LAST-MODIFIED:20190210T191443Z
UID:1439-1542043800-1542043800@www.danvillearts.org
SUMMARY:Writer's Group
DESCRIPTION:Regular monthly meeting – new members are welcome.
URL:https://www.danvillearts.org/event/writers-group-3/
CATEGORIES:All,Community Events
END:VEVENT
BEGIN:VEVENT
DTSTART;TZID=America/Kentucky/Louisville:20250113T173000
DTEND;TZID=America/Kentucky/Louisville:20250113T183000
DTSTAMP:20260420T033016
CREATED:20241212T155125Z
LAST-MODIFIED:20241212T155125Z
UID:3573-1736789400-1736793000@www.danvillearts.org
SUMMARY:2024 Arts Citizen of the Year Presentation
DESCRIPTION:Presentation of 2024 Arts Citizen of the year Award to Bruce Richardson.
URL:https://www.danvillearts.org/event/2024-arts-citizen-of-the-year-presentation/
CATEGORIES:All
ORGANIZER;CN="Arts Commision of Danville / Boyle County":MAILTO:arts@historicdanvilleky.com
END:VEVENT
BEGIN:VEVENT
DTSTART;TZID=America/Kentucky/Louisville:20250113T190000
DTEND;TZID=America/Kentucky/Louisville:20250113T203000
DTSTAMP:20260420T033016
CREATED:20241219T175001Z
LAST-MODIFIED:20241219T175001Z
UID:3579-1736794800-1736800200@www.danvillearts.org
SUMMARY:Danville Children's Choir
DESCRIPTION:Danville Children’s Choir is growing! \nCome and join the fun.  Third Grade and up are welcome. \nContact Patti Wright at pwright62@gmail.com
URL:https://www.danvillearts.org/event/danville-childrens-choir-3/
LOCATION:Lexington Avenue Baptist Church\, 339 West Lexington Ave.\, Danville\, KY\, 40422
CATEGORIES:All,Danville Sings
END:VEVENT
BEGIN:VEVENT
DTSTART;TZID=America/Kentucky/Louisville:20250113T190000
DTEND;TZID=America/Kentucky/Louisville:20250113T203000
DTSTAMP:20260420T033016
CREATED:20241219T180034Z
LAST-MODIFIED:20241219T180221Z
UID:3606-1736794800-1736800200@www.danvillearts.org
SUMMARY:Resonance Men's Choir
DESCRIPTION:New singers welcome! \nContact Barbara Hall at barbara.hall@centre.edu for more information. \n 
URL:https://www.danvillearts.org/event/resonance-mens-choir-2/
LOCATION:First Christian Church\, 555 East Lexington Ave.\, Danville\, KY\, 40422
CATEGORIES:All,Danville Sings
END:VEVENT
BEGIN:VEVENT
DTSTART;TZID=America/Kentucky/Louisville:20210909T075000
DTEND;TZID=America/Kentucky/Louisville:20210909T075500
DTSTAMP:20260420T033016
CREATED:20210902T150148Z
LAST-MODIFIED:20241212T153951Z
UID:2248-1631173800-1631174100@www.danvillearts.org
SUMMARY:Arts Commission on Joe Show
DESCRIPTION:Check out the latest from the Arts Commission. \nThe Joe Show with Joe Mathis \nWHIR FM 103.9/AM 1230
URL:https://www.danvillearts.org/event/arts-commission-on-joe-show/
CATEGORIES:All,Arts Commission
END:VEVENT
BEGIN:VEVENT
DTSTART;TZID=America/Kentucky/Louisville:20250109T190000
DTEND;TZID=America/Kentucky/Louisville:20250109T203000
DTSTAMP:20260420T033016
CREATED:20241219T175627Z
LAST-MODIFIED:20241219T175627Z
UID:3582-1736449200-1736454600@www.danvillearts.org
SUMMARY:Sounding Joy Women's Choir
DESCRIPTION:First rehearsal of 2025 Spring season. Contact Barbara Hall at barbara.hall@centre.edu for more information.
URL:https://www.danvillearts.org/event/sounding-joy-womens-choir-2/
LOCATION:Grant 114 Gillespie Recital Hall\, Norton Center\, Danville
END:VEVENT
BEGIN:VEVENT
DTSTART;TZID=America/Kentucky/Louisville:20250113T190000
DTEND;TZID=America/Kentucky/Louisville:20250113T203000
DTSTAMP:20260420T033016
CREATED:20241219T180034Z
LAST-MODIFIED:20241219T180221Z
UID:3606-1736794800-1736800200@www.danvillearts.org
SUMMARY:Resonance Men's Choir
DESCRIPTION:New singers welcome! \nContact Barbara Hall at barbara.hall@centre.edu for more information. \n 
URL:https://www.danvillearts.org/event/resonance-mens-choir-2/
LOCATION:First Christian Church\, 555 East Lexington Ave.\, Danville\, KY\, 40422
CATEGORIES:All,Danville Sings
END:VEVENT
BEGIN:VEVENT
DTSTART;TZID=America/Kentucky/Louisville:20210909T075000
DTEND;TZID=America/Kentucky/Louisville:20210909T075500
DTSTAMP:20260420T033016
CREATED:20210902T150148Z
LAST-MODIFIED:20241212T153951Z
UID:2248-1631173800-1631174100@www.danvillearts.org
SUMMARY:Arts Commission on Joe Show
DESCRIPTION:Check out the latest from the Arts Commission. \nThe Joe Show with Joe Mathis \nWHIR FM 103.9/AM 1230
URL:https://www.danvillearts.org/event/arts-commission-on-joe-show/
CATEGORIES:All,Arts Commission
END:VEVENT
BEGIN:VEVENT
DTSTART;TZID=America/Kentucky/Louisville:20250109T190000
DTEND;TZID=America/Kentucky/Louisville:20250109T203000
DTSTAMP:20260420T033016
CREATED:20241219T175627Z
LAST-MODIFIED:20241219T175627Z
UID:3582-1736449200-1736454600@www.danvillearts.org
SUMMARY:Sounding Joy Women's Choir
DESCRIPTION:First rehearsal of 2025 Spring season. Contact Barbara Hall at barbara.hall@centre.edu for more information.
URL:https://www.danvillearts.org/event/sounding-joy-womens-choir-2/
LOCATION:Grant 114 Gillespie Recital Hall\, Norton Center\, Danville
END:VEVENT
BEGIN:VEVENT
DTSTART;TZID=America/Kentucky/Louisville:20250113T190000
DTEND;TZID=America/Kentucky/Louisville:20250113T203000
DTSTAMP:20260420T033016
CREATED:20241219T180034Z
LAST-MODIFIED:20241219T180221Z
UID:3606-1736794800-1736800200@www.danvillearts.org
SUMMARY:Resonance Men's Choir
DESCRIPTION:New singers welcome! \nContact Barbara Hall at barbara.hall@centre.edu for more information. \n 
URL:https://www.danvillearts.org/event/resonance-mens-choir-2/
LOCATION:First Christian Church\, 555 East Lexington Ave.\, Danville\, KY\, 40422
CATEGORIES:All,Danville Sings
END:VEVENT
BEGIN:VEVENT
DTSTART;TZID=America/Kentucky/Louisville:20210909T075000
DTEND;TZID=America/Kentucky/Louisville:20210909T075500
DTSTAMP:20260420T033016
CREATED:20210902T150148Z
LAST-MODIFIED:20241212T153951Z
UID:2248-1631173800-1631174100@www.danvillearts.org
SUMMARY:Arts Commission on Joe Show
DESCRIPTION:Check out the latest from the Arts Commission. \nThe Joe Show with Joe Mathis \nWHIR FM 103.9/AM 1230
URL:https://www.danvillearts.org/event/arts-commission-on-joe-show/
CATEGORIES:All,Arts Commission
END:VEVENT
BEGIN:VEVENT
DTSTART;TZID=America/Kentucky/Louisville:20250109T190000
DTEND;TZID=America/Kentucky/Louisville:20250109T203000
DTSTAMP:20260420T033016
CREATED:20241219T175627Z
LAST-MODIFIED:20241219T175627Z
UID:3582-1736449200-1736454600@www.danvillearts.org
SUMMARY:Sounding Joy Women's Choir
DESCRIPTION:First rehearsal of 2025 Spring season. Contact Barbara Hall at barbara.hall@centre.edu for more information.
URL:https://www.danvillearts.org/event/sounding-joy-womens-choir-2/
LOCATION:Grant 114 Gillespie Recital Hall\, Norton Center\, Danville
END:VEVENT
BEGIN:VEVENT
DTSTART;TZID=America/Kentucky/Louisville:20250113T190000
DTEND;TZID=America/Kentucky/Louisville:20250113T203000
DTSTAMP:20260420T033016
CREATED:20241219T180034Z
LAST-MODIFIED:20241219T180221Z
UID:3606-1736794800-1736800200@www.danvillearts.org
SUMMARY:Resonance Men's Choir
DESCRIPTION:New singers welcome! \nContact Barbara Hall at barbara.hall@centre.edu for more information. \n 
URL:https://www.danvillearts.org/event/resonance-mens-choir-2/
LOCATION:First Christian Church\, 555 East Lexington Ave.\, Danville\, KY\, 40422
CATEGORIES:All,Danville Sings
END:VEVENT
BEGIN:VEVENT
DTSTART;TZID=America/Kentucky/Louisville:20210909T075000
DTEND;TZID=America/Kentucky/Louisville:20210909T075500
DTSTAMP:20260420T033016
CREATED:20210902T150148Z
LAST-MODIFIED:20241212T153951Z
UID:2248-1631173800-1631174100@www.danvillearts.org
SUMMARY:Arts Commission on Joe Show
DESCRIPTION:Check out the latest from the Arts Commission. \nThe Joe Show with Joe Mathis \nWHIR FM 103.9/AM 1230
URL:https://www.danvillearts.org/event/arts-commission-on-joe-show/
CATEGORIES:All,Arts Commission
END:VEVENT
BEGIN:VEVENT
DTSTART;TZID=America/Kentucky/Louisville:20250109T190000
DTEND;TZID=America/Kentucky/Louisville:20250109T203000
DTSTAMP:20260420T033016
CREATED:20241219T175627Z
LAST-MODIFIED:20241219T175627Z
UID:3582-1736449200-1736454600@www.danvillearts.org
SUMMARY:Sounding Joy Women's Choir
DESCRIPTION:First rehearsal of 2025 Spring season. Contact Barbara Hall at barbara.hall@centre.edu for more information.
URL:https://www.danvillearts.org/event/sounding-joy-womens-choir-2/
LOCATION:Grant 114 Gillespie Recital Hall\, Norton Center\, Danville
END:VEVENT
BEGIN:VEVENT
DTSTART;TZID=America/Kentucky/Louisville:20181208T101500
DTEND;TZID=America/Kentucky/Louisville:20181208T101500
DTSTAMP:20260420T033016
CREATED:20181128T171300Z
LAST-MODIFIED:20181128T171300Z
UID:1500-1544264100-1544264100@www.danvillearts.org
SUMMARY:Gathering Artists
DESCRIPTION:Regular monthly meeting\, open to all interested artists.
URL:https://www.danvillearts.org/event/gathering-artists-4/
LOCATION:Community Arts Center\, 401 West Main St.
CATEGORIES:All,Artists' Programs
END:VEVENT
BEGIN:VEVENT
DTSTART;TZID=America/Kentucky/Louisville:20181112T173000
DTEND;TZID=America/Kentucky/Louisville:20181112T173000
DTSTAMP:20260420T033017
CREATED:20181101T153929Z
LAST-MODIFIED:20190210T191443Z
UID:1439-1542043800-1542043800@www.danvillearts.org
SUMMARY:Writer's Group
DESCRIPTION:Regular monthly meeting – new members are welcome.
URL:https://www.danvillearts.org/event/writers-group-3/
CATEGORIES:All,Community Events
END:VEVENT
BEGIN:VEVENT
DTSTART;TZID=America/Kentucky/Louisville:20250113T190000
DTEND;TZID=America/Kentucky/Louisville:20250113T203000
DTSTAMP:20260420T033017
CREATED:20241219T180034Z
LAST-MODIFIED:20241219T180221Z
UID:3606-1736794800-1736800200@www.danvillearts.org
SUMMARY:Resonance Men's Choir
DESCRIPTION:New singers welcome! \nContact Barbara Hall at barbara.hall@centre.edu for more information. \n 
URL:https://www.danvillearts.org/event/resonance-mens-choir-2/
LOCATION:First Christian Church\, 555 East Lexington Ave.\, Danville\, KY\, 40422
CATEGORIES:All,Danville Sings
END:VEVENT
BEGIN:VEVENT
DTSTART;TZID=America/Kentucky/Louisville:20210909T075000
DTEND;TZID=America/Kentucky/Louisville:20210909T075500
DTSTAMP:20260420T033017
CREATED:20210902T150148Z
LAST-MODIFIED:20241212T153951Z
UID:2248-1631173800-1631174100@www.danvillearts.org
SUMMARY:Arts Commission on Joe Show
DESCRIPTION:Check out the latest from the Arts Commission. \nThe Joe Show with Joe Mathis \nWHIR FM 103.9/AM 1230
URL:https://www.danvillearts.org/event/arts-commission-on-joe-show/
CATEGORIES:All,Arts Commission
END:VEVENT
END:VCALENDAR