BEGIN:VCALENDAR
VERSION:2.0
PRODID:-//The Arts Commission of Danville / Boyle County - ECPv6.15.20//NONSGML v1.0//EN
CALSCALE:GREGORIAN
METHOD:PUBLISH
X-ORIGINAL-URL:https://www.danvillearts.org
X-WR-CALDESC:Events for The Arts Commission of Danville / Boyle County
REFRESH-INTERVAL;VALUE=DURATION:PT1H
X-Robots-Tag:noindex
X-PUBLISHED-TTL:PT1H
BEGIN:VTIMEZONE
TZID:America/Kentucky/Louisville
BEGIN:DAYLIGHT
TZOFFSETFROM:-0500
TZOFFSETTO:-0400
TZNAME:EDT
DTSTART:20170312T070000
END:DAYLIGHT
BEGIN:STANDARD
TZOFFSETFROM:-0400
TZOFFSETTO:-0500
TZNAME:EST
DTSTART:20171105T060000
END:STANDARD
BEGIN:DAYLIGHT
TZOFFSETFROM:-0500
TZOFFSETTO:-0400
TZNAME:EDT
DTSTART:20180311T070000
END:DAYLIGHT
BEGIN:STANDARD
TZOFFSETFROM:-0400
TZOFFSETTO:-0500
TZNAME:EST
DTSTART:20181104T060000
END:STANDARD
BEGIN:DAYLIGHT
TZOFFSETFROM:-0500
TZOFFSETTO:-0400
TZNAME:EDT
DTSTART:20190310T070000
END:DAYLIGHT
BEGIN:STANDARD
TZOFFSETFROM:-0400
TZOFFSETTO:-0500
TZNAME:EST
DTSTART:20191103T060000
END:STANDARD
END:VTIMEZONE
BEGIN:VEVENT
DTSTART;TZID=America/Kentucky/Louisville:20180907T080000
DTEND;TZID=America/Kentucky/Louisville:20180907T080000
DTSTAMP:20260420T204944
CREATED:20180828T175945Z
LAST-MODIFIED:20181002T172022Z
UID:938-1536307200-1536307200@www.danvillearts.org
SUMMARY:Arts Commission in the Advocate
DESCRIPTION:Catch up on local arts news and stories about local artists each Friday in the Advocate.  If you have ideas for stories\, email Mimi Becker at arts@historicdanvilleky.com.
URL:https://www.danvillearts.org/event/arts-commission-in-the-advocate/
CATEGORIES:All,Arts Commission
END:VEVENT
BEGIN:VEVENT
DTSTART;TZID=America/Kentucky/Louisville:20181005T200000
DTEND;TZID=America/Kentucky/Louisville:20181005T200000
DTSTAMP:20260420T204944
CREATED:20181002T163901Z
LAST-MODIFIED:20181010T190345Z
UID:1260-1538769600-1538769600@www.danvillearts.org
SUMMARY:Scarlet Cup Theater
DESCRIPTION:Departures by John Godber.  American premier of British play about the comings and goings of travelers in nine airports around the world.  The play is staged in the terminal of the Danville – Boyle County Airport\, Stuart Powell Field. \nTea and “biscuits” will be served at intermission.  Elmwood Inn Fine Teas has created a special blend “Scarlet Cup” for your enjoyment. \nTickets on line at the Arts Commission web site\, danvillearts.org or at the airport night of show\, if available. \nArts Commission serves as the fiscal sponsor of the Scarlet Cup Theatre.
URL:https://www.danvillearts.org/event/scarlet-cup-theatre-2018-10-05/
LOCATION:Danville – Boyle County Airport\, 420 Airport Road\, Junction City\, Kentucky\, 40440
CATEGORIES:All,Scarlet Cup
END:VEVENT
BEGIN:VEVENT
DTSTART;VALUE=DATE:20181012
DTEND;VALUE=DATE:20181013
DTSTAMP:20260420T204944
CREATED:20181002T165233Z
LAST-MODIFIED:20181002T165233Z
UID:1271-1539302400-1539388799@www.danvillearts.org
SUMMARY:Forkland Festival
DESCRIPTION:Arts\, crafts\, food\, games\, exhibits and entertainment.  For schedule and ticket information\, contact the Forkland website.
URL:https://www.danvillearts.org/event/forkland-festival/
LOCATION:Forkland Community Center\, Highway 37\, Forkland\, KY
CATEGORIES:All,Community Events
END:VEVENT
BEGIN:VEVENT
DTSTART;TZID=America/Kentucky/Louisville:20181005T200000
DTEND;TZID=America/Kentucky/Louisville:20181005T200000
DTSTAMP:20260420T204944
CREATED:20181002T163901Z
LAST-MODIFIED:20181010T190345Z
UID:1260-1538769600-1538769600@www.danvillearts.org
SUMMARY:Scarlet Cup Theater
DESCRIPTION:Departures by John Godber.  American premier of British play about the comings and goings of travelers in nine airports around the world.  The play is staged in the terminal of the Danville – Boyle County Airport\, Stuart Powell Field. \nTea and “biscuits” will be served at intermission.  Elmwood Inn Fine Teas has created a special blend “Scarlet Cup” for your enjoyment. \nTickets on line at the Arts Commission web site\, danvillearts.org or at the airport night of show\, if available. \nArts Commission serves as the fiscal sponsor of the Scarlet Cup Theatre.
URL:https://www.danvillearts.org/event/scarlet-cup-theatre-2018-10-05/
LOCATION:Danville – Boyle County Airport\, 420 Airport Road\, Junction City\, Kentucky\, 40440
CATEGORIES:All,Scarlet Cup
END:VEVENT
BEGIN:VEVENT
DTSTART;TZID=America/Kentucky/Louisville:20181005T200000
DTEND;TZID=America/Kentucky/Louisville:20181005T200000
DTSTAMP:20260420T204944
CREATED:20181002T163901Z
LAST-MODIFIED:20181010T190345Z
UID:1260-1538769600-1538769600@www.danvillearts.org
SUMMARY:Scarlet Cup Theater
DESCRIPTION:Departures by John Godber.  American premier of British play about the comings and goings of travelers in nine airports around the world.  The play is staged in the terminal of the Danville – Boyle County Airport\, Stuart Powell Field. \nTea and “biscuits” will be served at intermission.  Elmwood Inn Fine Teas has created a special blend “Scarlet Cup” for your enjoyment. \nTickets on line at the Arts Commission web site\, danvillearts.org or at the airport night of show\, if available. \nArts Commission serves as the fiscal sponsor of the Scarlet Cup Theatre.
URL:https://www.danvillearts.org/event/scarlet-cup-theatre-2018-10-05/
LOCATION:Danville – Boyle County Airport\, 420 Airport Road\, Junction City\, Kentucky\, 40440
CATEGORIES:All,Scarlet Cup
END:VEVENT
BEGIN:VEVENT
DTSTART;VALUE=DATE:20181015
DTEND;VALUE=DATE:20181016
DTSTAMP:20260420T204944
CREATED:20181002T160725Z
LAST-MODIFIED:20181002T160725Z
UID:1241-1539561600-1539647999@www.danvillearts.org
SUMMARY:Plein Air Artists of Central Kentucky
DESCRIPTION:Cumberland Falls State Park
URL:https://www.danvillearts.org/event/plein-air-artists-of-central-kentucky-3/
CATEGORIES:All,Artists' Programs
END:VEVENT
BEGIN:VEVENT
DTSTART;TZID=America/Kentucky/Louisville:20181017T120000
DTEND;TZID=America/Kentucky/Louisville:20181017T120000
DTSTAMP:20260420T204944
CREATED:20181002T165738Z
LAST-MODIFIED:20181002T165738Z
UID:1276-1539777600-1539777600@www.danvillearts.org
SUMMARY:Lunch with the Arts
DESCRIPTION:Lee Patrick and Loren Tice\, saxophone and piano duo.
URL:https://www.danvillearts.org/event/lunch-with-the-arts-2/
LOCATION:Community Arts Center\, 401 West Main St.
CATEGORIES:All,Community Events
END:VEVENT
BEGIN:VEVENT
DTSTART;TZID=America/Kentucky/Louisville:20180830T075000
DTEND;TZID=America/Kentucky/Louisville:20180830T080000
DTSTAMP:20260420T204944
CREATED:20180828T154418Z
LAST-MODIFIED:20181002T212921Z
UID:899-1535615400-1535616000@www.danvillearts.org
SUMMARY:Arts Commission on the Radio
DESCRIPTION:Catch the latest Arts news with Mimi on the Charlie Perry Show WHIR AM 1230 at 7:50 am.  Keep up with the world of local art events in our schools and around the community. \nIf you have a topic of interest\, contact the Arts Commission at arts@historicdanvilleky.com.
URL:https://www.danvillearts.org/event/arts-commission-on-the-radio/
LOCATION:MCC
CATEGORIES:All,Arts Commission
END:VEVENT
BEGIN:VEVENT
DTSTART;TZID=America/Kentucky/Louisville:20180907T080000
DTEND;TZID=America/Kentucky/Louisville:20180907T080000
DTSTAMP:20260420T204944
CREATED:20180828T175945Z
LAST-MODIFIED:20181002T172022Z
UID:938-1536307200-1536307200@www.danvillearts.org
SUMMARY:Arts Commission in the Advocate
DESCRIPTION:Catch up on local arts news and stories about local artists each Friday in the Advocate.  If you have ideas for stories\, email Mimi Becker at arts@historicdanvilleky.com.
URL:https://www.danvillearts.org/event/arts-commission-in-the-advocate/
CATEGORIES:All,Arts Commission
END:VEVENT
BEGIN:VEVENT
DTSTART;VALUE=DATE:20181022
DTEND;VALUE=DATE:20181023
DTSTAMP:20260420T204944
CREATED:20181002T161132Z
LAST-MODIFIED:20181002T161132Z
UID:1243-1540166400-1540252799@www.danvillearts.org
SUMMARY:Plein Air Artists of Central Kentucky
DESCRIPTION:Hogue Falls
URL:https://www.danvillearts.org/event/plein-air-artists-of-central-kentucky-4/
CATEGORIES:All,Artists' Programs
END:VEVENT
BEGIN:VEVENT
DTSTART;TZID=America/Kentucky/Louisville:20180830T075000
DTEND;TZID=America/Kentucky/Louisville:20180830T080000
DTSTAMP:20260420T204944
CREATED:20180828T154418Z
LAST-MODIFIED:20181002T212921Z
UID:899-1535615400-1535616000@www.danvillearts.org
SUMMARY:Arts Commission on the Radio
DESCRIPTION:Catch the latest Arts news with Mimi on the Charlie Perry Show WHIR AM 1230 at 7:50 am.  Keep up with the world of local art events in our schools and around the community. \nIf you have a topic of interest\, contact the Arts Commission at arts@historicdanvilleky.com.
URL:https://www.danvillearts.org/event/arts-commission-on-the-radio/
LOCATION:MCC
CATEGORIES:All,Arts Commission
END:VEVENT
BEGIN:VEVENT
DTSTART;TZID=America/Kentucky/Louisville:20180907T080000
DTEND;TZID=America/Kentucky/Louisville:20180907T080000
DTSTAMP:20260420T204944
CREATED:20180828T175945Z
LAST-MODIFIED:20181002T172022Z
UID:938-1536307200-1536307200@www.danvillearts.org
SUMMARY:Arts Commission in the Advocate
DESCRIPTION:Catch up on local arts news and stories about local artists each Friday in the Advocate.  If you have ideas for stories\, email Mimi Becker at arts@historicdanvilleky.com.
URL:https://www.danvillearts.org/event/arts-commission-in-the-advocate/
CATEGORIES:All,Arts Commission
END:VEVENT
BEGIN:VEVENT
DTSTART;VALUE=DATE:20181029
DTEND;VALUE=DATE:20181030
DTSTAMP:20260420T204944
CREATED:20181002T161231Z
LAST-MODIFIED:20181002T161231Z
UID:1245-1540771200-1540857599@www.danvillearts.org
SUMMARY:Plein Air Artists of Central Kentucky
DESCRIPTION:Andrea Perkins Home on Herrington Lake
URL:https://www.danvillearts.org/event/plein-air-artists-of-central-kentucky-5/
CATEGORIES:All,Artists' Programs
END:VEVENT
BEGIN:VEVENT
DTSTART;TZID=America/Kentucky/Louisville:20181031T090000
DTEND;TZID=America/Kentucky/Louisville:20181031T090000
DTSTAMP:20260420T204944
CREATED:20181002T155710Z
LAST-MODIFIED:20181002T155710Z
UID:1230-1540976400-1540976400@www.danvillearts.org
SUMMARY:Aegon Gallery
DESCRIPTION:Humanities Exhibit of 19th C French Bronze Sculptures opens Oct. 31st. \nThe exhibit runs until November 9th and is open Monday – Friday 9:00 – 4:00.  The Gallery is in the Jones Visual Arts Center. \nOpen to the public.
URL:https://www.danvillearts.org/event/aegon-gallery/
LOCATION:Jones Visual Arts Center\, 209 Beatty Ave.\, Danville\, Kentucky\, 40422
CATEGORIES:All,Community Events
END:VEVENT
BEGIN:VEVENT
DTSTART;TZID=America/Kentucky/Louisville:20180830T075000
DTEND;TZID=America/Kentucky/Louisville:20180830T080000
DTSTAMP:20260420T204944
CREATED:20180828T154418Z
LAST-MODIFIED:20181002T212921Z
UID:899-1535615400-1535616000@www.danvillearts.org
SUMMARY:Arts Commission on the Radio
DESCRIPTION:Catch the latest Arts news with Mimi on the Charlie Perry Show WHIR AM 1230 at 7:50 am.  Keep up with the world of local art events in our schools and around the community. \nIf you have a topic of interest\, contact the Arts Commission at arts@historicdanvilleky.com.
URL:https://www.danvillearts.org/event/arts-commission-on-the-radio/
LOCATION:MCC
CATEGORIES:All,Arts Commission
END:VEVENT
BEGIN:VEVENT
DTSTART;TZID=America/Kentucky/Louisville:20181101T190000
DTEND;TZID=America/Kentucky/Louisville:20181101T190000
DTSTAMP:20260420T204944
CREATED:20181031T174758Z
LAST-MODIFIED:20181031T174758Z
UID:1407-1541098800-1541098800@www.danvillearts.org
SUMMARY:Not Yet\, Pista
DESCRIPTION:Student production of a Holocaust survivor’s story. \nRead story on Home page of this website.
URL:https://www.danvillearts.org/event/not-yet-pista/
LOCATION:Gravely Hall – Danville High School\, 203 Lexington Ave.\, Danville\, KY\, 40422
CATEGORIES:All,Scarlet Cup,Schools
END:VEVENT
BEGIN:VEVENT
DTSTART;TZID=America/Kentucky/Louisville:20180907T080000
DTEND;TZID=America/Kentucky/Louisville:20180907T080000
DTSTAMP:20260420T204944
CREATED:20180828T175945Z
LAST-MODIFIED:20181002T172022Z
UID:938-1536307200-1536307200@www.danvillearts.org
SUMMARY:Arts Commission in the Advocate
DESCRIPTION:Catch up on local arts news and stories about local artists each Friday in the Advocate.  If you have ideas for stories\, email Mimi Becker at arts@historicdanvilleky.com.
URL:https://www.danvillearts.org/event/arts-commission-in-the-advocate/
CATEGORIES:All,Arts Commission
END:VEVENT
BEGIN:VEVENT
DTSTART;TZID=America/Kentucky/Louisville:20181102T150000
DTEND;TZID=America/Kentucky/Louisville:20181102T150000
DTSTAMP:20260420T204944
CREATED:20181101T145746Z
LAST-MODIFIED:20181101T150708Z
UID:1423-1541170800-1541170800@www.danvillearts.org
SUMMARY:Stephen Nasser - Author Talk
DESCRIPTION:Stephen Nasser\, Holocaust survivor and author/playwright\, will talk about his experiences as a young boy.  His topic is “My Bother’s Voice.”  Mr. Nasser is in town for the Bate student production of his play\,  Not Yet\, Pista\, this weekend at Gravely Hall. \nThe Library talk is free and open to the public. \nThe Bate student production is sponsored\, in part\, by the Scarlet Cup.
URL:https://www.danvillearts.org/event/stephen-nasser-author-talk/
LOCATION:Boyle County Public Library\, 307 West Broadway St.\, Danville\, KY\, 40422
CATEGORIES:All,Community Events,Scarlet Cup
END:VEVENT
BEGIN:VEVENT
DTSTART;TZID=America/Kentucky/Louisville:20181101T190000
DTEND;TZID=America/Kentucky/Louisville:20181101T190000
DTSTAMP:20260420T204944
CREATED:20181031T174758Z
LAST-MODIFIED:20181031T174758Z
UID:1407-1541098800-1541098800@www.danvillearts.org
SUMMARY:Not Yet\, Pista
DESCRIPTION:Student production of a Holocaust survivor’s story. \nRead story on Home page of this website.
URL:https://www.danvillearts.org/event/not-yet-pista/
LOCATION:Gravely Hall – Danville High School\, 203 Lexington Ave.\, Danville\, KY\, 40422
CATEGORIES:All,Scarlet Cup,Schools
END:VEVENT
BEGIN:VEVENT
DTSTART;TZID=America/Kentucky/Louisville:20181101T190000
DTEND;TZID=America/Kentucky/Louisville:20181101T190000
DTSTAMP:20260420T204944
CREATED:20181031T174758Z
LAST-MODIFIED:20181031T174758Z
UID:1407-1541098800-1541098800@www.danvillearts.org
SUMMARY:Not Yet\, Pista
DESCRIPTION:Student production of a Holocaust survivor’s story. \nRead story on Home page of this website.
URL:https://www.danvillearts.org/event/not-yet-pista/
LOCATION:Gravely Hall – Danville High School\, 203 Lexington Ave.\, Danville\, KY\, 40422
CATEGORIES:All,Scarlet Cup,Schools
END:VEVENT
BEGIN:VEVENT
DTSTART;TZID=America/Kentucky/Louisville:20181103T193000
DTEND;TZID=America/Kentucky/Louisville:20181103T193000
DTSTAMP:20260420T204944
CREATED:20181101T151017Z
LAST-MODIFIED:20181101T151017Z
UID:1425-1541273400-1541273400@www.danvillearts.org
SUMMARY:200 Strong
DESCRIPTION:Centre Choir will perform with several other choirs in a free and open to the public concert.
URL:https://www.danvillearts.org/event/200-strong/
LOCATION:Newlin Hall at Centre College
CATEGORIES:All,Community Events
END:VEVENT
BEGIN:VEVENT
DTSTART;TZID=America/Kentucky/Louisville:20181101T190000
DTEND;TZID=America/Kentucky/Louisville:20181101T190000
DTSTAMP:20260420T204944
CREATED:20181031T174758Z
LAST-MODIFIED:20181031T174758Z
UID:1407-1541098800-1541098800@www.danvillearts.org
SUMMARY:Not Yet\, Pista
DESCRIPTION:Student production of a Holocaust survivor’s story. \nRead story on Home page of this website.
URL:https://www.danvillearts.org/event/not-yet-pista/
LOCATION:Gravely Hall – Danville High School\, 203 Lexington Ave.\, Danville\, KY\, 40422
CATEGORIES:All,Scarlet Cup,Schools
END:VEVENT
BEGIN:VEVENT
DTSTART;TZID=America/Kentucky/Louisville:20181107T200000
DTEND;TZID=America/Kentucky/Louisville:20181107T200000
DTSTAMP:20260420T204944
CREATED:20181101T152032Z
LAST-MODIFIED:20181101T152032Z
UID:1432-1541620800-1541620800@www.danvillearts.org
SUMMARY:John Proctor is the Villain
DESCRIPTION:
URL:https://www.danvillearts.org/event/john-proctor-is-the-villain/
LOCATION:Weisiger at Centre College\, 600 West Walnut Street\, Danville\, Kentucky\, 40422
CATEGORIES:All,Centre College
END:VEVENT
BEGIN:VEVENT
DTSTART;TZID=America/Kentucky/Louisville:20180830T075000
DTEND;TZID=America/Kentucky/Louisville:20180830T080000
DTSTAMP:20260420T204944
CREATED:20180828T154418Z
LAST-MODIFIED:20181002T212921Z
UID:899-1535615400-1535616000@www.danvillearts.org
SUMMARY:Arts Commission on the Radio
DESCRIPTION:Catch the latest Arts news with Mimi on the Charlie Perry Show WHIR AM 1230 at 7:50 am.  Keep up with the world of local art events in our schools and around the community. \nIf you have a topic of interest\, contact the Arts Commission at arts@historicdanvilleky.com.
URL:https://www.danvillearts.org/event/arts-commission-on-the-radio/
LOCATION:MCC
CATEGORIES:All,Arts Commission
END:VEVENT
BEGIN:VEVENT
DTSTART;TZID=America/Kentucky/Louisville:20181108T173000
DTEND;TZID=America/Kentucky/Louisville:20181108T200000
DTSTAMP:20260420T204944
CREATED:20181102T145023Z
LAST-MODIFIED:20181102T145651Z
UID:1475-1541698200-1541707200@www.danvillearts.org
SUMMARY:Gallery Hop!
DESCRIPTION:Downtown Danville is the place to be on November 8th from 5:30 – 8:00. \nOver 40 artists and 20 locations are decked out and ready to greet you! \nLook for the Arts Event banners and enjoy meeting local artists and business owners for a great start to the Holiday season.
URL:https://www.danvillearts.org/event/gallery-hop/
LOCATION:Downtown Danville\, Danville\, Kentucky\, 40422
CATEGORIES:All,Arts Commission
END:VEVENT
BEGIN:VEVENT
DTSTART;TZID=America/Kentucky/Louisville:20181107T200000
DTEND;TZID=America/Kentucky/Louisville:20181107T200000
DTSTAMP:20260420T204944
CREATED:20181101T152032Z
LAST-MODIFIED:20181101T152032Z
UID:1432-1541620800-1541620800@www.danvillearts.org
SUMMARY:John Proctor is the Villain
DESCRIPTION:
URL:https://www.danvillearts.org/event/john-proctor-is-the-villain/
LOCATION:Weisiger at Centre College\, 600 West Walnut Street\, Danville\, Kentucky\, 40422
CATEGORIES:All,Centre College
END:VEVENT
BEGIN:VEVENT
DTSTART;TZID=America/Kentucky/Louisville:20180907T080000
DTEND;TZID=America/Kentucky/Louisville:20180907T080000
DTSTAMP:20260420T204944
CREATED:20180828T175945Z
LAST-MODIFIED:20181002T172022Z
UID:938-1536307200-1536307200@www.danvillearts.org
SUMMARY:Arts Commission in the Advocate
DESCRIPTION:Catch up on local arts news and stories about local artists each Friday in the Advocate.  If you have ideas for stories\, email Mimi Becker at arts@historicdanvilleky.com.
URL:https://www.danvillearts.org/event/arts-commission-in-the-advocate/
CATEGORIES:All,Arts Commission
END:VEVENT
BEGIN:VEVENT
DTSTART;TZID=America/Kentucky/Louisville:20181107T200000
DTEND;TZID=America/Kentucky/Louisville:20181107T200000
DTSTAMP:20260420T204944
CREATED:20181101T152032Z
LAST-MODIFIED:20181101T152032Z
UID:1432-1541620800-1541620800@www.danvillearts.org
SUMMARY:John Proctor is the Villain
DESCRIPTION:
URL:https://www.danvillearts.org/event/john-proctor-is-the-villain/
LOCATION:Weisiger at Centre College\, 600 West Walnut Street\, Danville\, Kentucky\, 40422
CATEGORIES:All,Centre College
END:VEVENT
BEGIN:VEVENT
DTSTART;TZID=America/Kentucky/Louisville:20181110T101500
DTEND;TZID=America/Kentucky/Louisville:20181110T101500
DTSTAMP:20260420T204944
CREATED:20181101T151332Z
LAST-MODIFIED:20181101T151332Z
UID:1429-1541844900-1541844900@www.danvillearts.org
SUMMARY:Gathering Artists
DESCRIPTION:Regular monthly meeting – all artists are welcome to attend.
URL:https://www.danvillearts.org/event/gathering-artists-3/
LOCATION:Community Arts Center\, 401 West Main St.
CATEGORIES:All,Artists' Programs
END:VEVENT
BEGIN:VEVENT
DTSTART;TZID=America/Kentucky/Louisville:20181110T110000
DTEND;TZID=America/Kentucky/Louisville:20181110T163000
DTSTAMP:20260420T204944
CREATED:20181101T161723Z
LAST-MODIFIED:20181101T161723Z
UID:1469-1541847600-1541867400@www.danvillearts.org
SUMMARY:Entrepreneur Program Field Experience to Frankfort
DESCRIPTION:Team members will depart McKinney Center at 11:00 to tour Completely Kentucky and the Woolery in Frankfort returning by 4:30. \nThis field experience is hosted by Deborah Peckler and Abby Quirk-Royal.  Limited spaces for guests are available.  Contact Mimi Becker at arts@historicdanvilleky.com for more information.
URL:https://www.danvillearts.org/event/entrepreneur-program-field-experience-to-frankfort/
LOCATION:McKinney Conference Center\, Constitution Square\, Danville\, KY\, 40422
CATEGORIES:All,Arts Commission
END:VEVENT
END:VCALENDAR