BEGIN:VCALENDAR
VERSION:2.0
PRODID:-//The Arts Commission of Danville / Boyle County - ECPv6.15.20//NONSGML v1.0//EN
CALSCALE:GREGORIAN
METHOD:PUBLISH
X-WR-CALNAME:The Arts Commission of Danville / Boyle County
X-ORIGINAL-URL:https://www.danvillearts.org
X-WR-CALDESC:Events for The Arts Commission of Danville / Boyle County
REFRESH-INTERVAL;VALUE=DURATION:PT1H
X-Robots-Tag:noindex
X-PUBLISHED-TTL:PT1H
BEGIN:VTIMEZONE
TZID:America/Kentucky/Louisville
BEGIN:DAYLIGHT
TZOFFSETFROM:-0500
TZOFFSETTO:-0400
TZNAME:EDT
DTSTART:20170312T070000
END:DAYLIGHT
BEGIN:STANDARD
TZOFFSETFROM:-0400
TZOFFSETTO:-0500
TZNAME:EST
DTSTART:20171105T060000
END:STANDARD
BEGIN:DAYLIGHT
TZOFFSETFROM:-0500
TZOFFSETTO:-0400
TZNAME:EDT
DTSTART:20180311T070000
END:DAYLIGHT
BEGIN:STANDARD
TZOFFSETFROM:-0400
TZOFFSETTO:-0500
TZNAME:EST
DTSTART:20181104T060000
END:STANDARD
BEGIN:DAYLIGHT
TZOFFSETFROM:-0500
TZOFFSETTO:-0400
TZNAME:EDT
DTSTART:20190310T070000
END:DAYLIGHT
BEGIN:STANDARD
TZOFFSETFROM:-0400
TZOFFSETTO:-0500
TZNAME:EST
DTSTART:20191103T060000
END:STANDARD
BEGIN:DAYLIGHT
TZOFFSETFROM:-0500
TZOFFSETTO:-0400
TZNAME:EDT
DTSTART:20200308T070000
END:DAYLIGHT
BEGIN:STANDARD
TZOFFSETFROM:-0400
TZOFFSETTO:-0500
TZNAME:EST
DTSTART:20201101T060000
END:STANDARD
BEGIN:DAYLIGHT
TZOFFSETFROM:-0500
TZOFFSETTO:-0400
TZNAME:EDT
DTSTART:20210314T070000
END:DAYLIGHT
BEGIN:STANDARD
TZOFFSETFROM:-0400
TZOFFSETTO:-0500
TZNAME:EST
DTSTART:20211107T060000
END:STANDARD
END:VTIMEZONE
BEGIN:VEVENT
DTSTART;TZID=America/Kentucky/Louisville:20190518T100000
DTEND;TZID=America/Kentucky/Louisville:20190518T160000
DTSTAMP:20260419T181236
CREATED:20190419T154254Z
LAST-MODIFIED:20190419T154254Z
UID:1843-1558173600-1558195200@www.danvillearts.org
SUMMARY:Garden Tour
DESCRIPTION:The Garden Club of Danville presents eight inspiring gardens Saturday\, May 18th\, rain or shine\, from 10:00 – 4:00. \nTickets are $15.00 in advance and $20.00 day of tour.  Tickets may be purchased at Maple Tree Gallery and The Derby Shoppe\, or by mail before April 25th to The Garden Club of Danville\, P. O. Box 1762\, Danville. KY 40423. \nDay of tour\, purchase tickets at Constitution Square\, 2nd and Main Sts.\, or any garden on the tour. \nCheck the Club website for more information. \nwww.thegardenclubofdanville.org \n 
URL:https://www.danvillearts.org/event/garden-tour/
CATEGORIES:All,Community Events
END:VEVENT
BEGIN:VEVENT
DTSTART;TZID=America/Kentucky/Louisville:20181112T173000
DTEND;TZID=America/Kentucky/Louisville:20181112T173000
DTSTAMP:20260419T181236
CREATED:20181101T153929Z
LAST-MODIFIED:20190210T191443Z
UID:1439-1542043800-1542043800@www.danvillearts.org
SUMMARY:Writer's Group
DESCRIPTION:Regular monthly meeting – new members are welcome.
URL:https://www.danvillearts.org/event/writers-group-3/
CATEGORIES:All,Community Events
END:VEVENT
BEGIN:VEVENT
DTSTART;TZID=America/Kentucky/Louisville:20190408T173000
DTEND;TZID=America/Kentucky/Louisville:20190408T173000
DTSTAMP:20260419T181236
CREATED:20190328T161129Z
LAST-MODIFIED:20190328T165237Z
UID:1789-1554744600-1554744600@www.danvillearts.org
SUMMARY:Writers' Group
DESCRIPTION:All writers are welcome to attend this group\, no matter what your level and style.
URL:https://www.danvillearts.org/event/writers-group-5/
LOCATION:Boyle County Public Library\, 307 West Broadway St.\, Danville\, KY\, 40422
CATEGORIES:All,Community Events
END:VEVENT
BEGIN:VEVENT
DTSTART;TZID=America/Kentucky/Louisville:20181112T173000
DTEND;TZID=America/Kentucky/Louisville:20181112T173000
DTSTAMP:20260419T181236
CREATED:20181101T153929Z
LAST-MODIFIED:20190210T191443Z
UID:1439-1542043800-1542043800@www.danvillearts.org
SUMMARY:Writer's Group
DESCRIPTION:Regular monthly meeting – new members are welcome.
URL:https://www.danvillearts.org/event/writers-group-3/
CATEGORIES:All,Community Events
END:VEVENT
BEGIN:VEVENT
DTSTART;TZID=America/Kentucky/Louisville:20190408T173000
DTEND;TZID=America/Kentucky/Louisville:20190408T173000
DTSTAMP:20260419T181236
CREATED:20190328T161129Z
LAST-MODIFIED:20190328T165237Z
UID:1789-1554744600-1554744600@www.danvillearts.org
SUMMARY:Writers' Group
DESCRIPTION:All writers are welcome to attend this group\, no matter what your level and style.
URL:https://www.danvillearts.org/event/writers-group-5/
LOCATION:Boyle County Public Library\, 307 West Broadway St.\, Danville\, KY\, 40422
CATEGORIES:All,Community Events
END:VEVENT
BEGIN:VEVENT
DTSTART;TZID=America/Kentucky/Louisville:20181112T173000
DTEND;TZID=America/Kentucky/Louisville:20181112T173000
DTSTAMP:20260419T181236
CREATED:20181101T153929Z
LAST-MODIFIED:20190210T191443Z
UID:1439-1542043800-1542043800@www.danvillearts.org
SUMMARY:Writer's Group
DESCRIPTION:Regular monthly meeting – new members are welcome.
URL:https://www.danvillearts.org/event/writers-group-3/
CATEGORIES:All,Community Events
END:VEVENT
BEGIN:VEVENT
DTSTART;TZID=America/Kentucky/Louisville:20190408T173000
DTEND;TZID=America/Kentucky/Louisville:20190408T173000
DTSTAMP:20260419T181236
CREATED:20190328T161129Z
LAST-MODIFIED:20190328T165237Z
UID:1789-1554744600-1554744600@www.danvillearts.org
SUMMARY:Writers' Group
DESCRIPTION:All writers are welcome to attend this group\, no matter what your level and style.
URL:https://www.danvillearts.org/event/writers-group-5/
LOCATION:Boyle County Public Library\, 307 West Broadway St.\, Danville\, KY\, 40422
CATEGORIES:All,Community Events
END:VEVENT
BEGIN:VEVENT
DTSTART;TZID=America/Kentucky/Louisville:20181112T173000
DTEND;TZID=America/Kentucky/Louisville:20181112T173000
DTSTAMP:20260419T181236
CREATED:20181101T153929Z
LAST-MODIFIED:20190210T191443Z
UID:1439-1542043800-1542043800@www.danvillearts.org
SUMMARY:Writer's Group
DESCRIPTION:Regular monthly meeting – new members are welcome.
URL:https://www.danvillearts.org/event/writers-group-3/
CATEGORIES:All,Community Events
END:VEVENT
BEGIN:VEVENT
DTSTART;TZID=America/Kentucky/Louisville:20190408T173000
DTEND;TZID=America/Kentucky/Louisville:20190408T173000
DTSTAMP:20260419T181236
CREATED:20190328T161129Z
LAST-MODIFIED:20190328T165237Z
UID:1789-1554744600-1554744600@www.danvillearts.org
SUMMARY:Writers' Group
DESCRIPTION:All writers are welcome to attend this group\, no matter what your level and style.
URL:https://www.danvillearts.org/event/writers-group-5/
LOCATION:Boyle County Public Library\, 307 West Broadway St.\, Danville\, KY\, 40422
CATEGORIES:All,Community Events
END:VEVENT
BEGIN:VEVENT
DTSTART;TZID=America/Kentucky/Louisville:20191003T075000
DTEND;TZID=America/Kentucky/Louisville:20191003T080000
DTSTAMP:20260419T181236
CREATED:20191017T192739Z
LAST-MODIFIED:20191017T193201Z
UID:1932-1570089000-1570089600@www.danvillearts.org
SUMMARY:Arts Commission on Charlie Perry Show
DESCRIPTION:Tune in to Charlie’s show\, WHIR 1230AM\, at 7:50 for arts and Arts Commission news.
URL:https://www.danvillearts.org/event/arts-commission-on-charlie-perry-show/
CATEGORIES:Arts Commission,Community Events
END:VEVENT
BEGIN:VEVENT
DTSTART;TZID=America/Kentucky/Louisville:20191003T075000
DTEND;TZID=America/Kentucky/Louisville:20191003T080000
DTSTAMP:20260419T181236
CREATED:20191017T192739Z
LAST-MODIFIED:20191017T193201Z
UID:1932-1570089000-1570089600@www.danvillearts.org
SUMMARY:Arts Commission on Charlie Perry Show
DESCRIPTION:Tune in to Charlie’s show\, WHIR 1230AM\, at 7:50 for arts and Arts Commission news.
URL:https://www.danvillearts.org/event/arts-commission-on-charlie-perry-show/
CATEGORIES:Arts Commission,Community Events
END:VEVENT
BEGIN:VEVENT
DTSTART;TZID=America/Kentucky/Louisville:20181112T173000
DTEND;TZID=America/Kentucky/Louisville:20181112T173000
DTSTAMP:20260419T181236
CREATED:20181101T153929Z
LAST-MODIFIED:20190210T191443Z
UID:1439-1542043800-1542043800@www.danvillearts.org
SUMMARY:Writer's Group
DESCRIPTION:Regular monthly meeting – new members are welcome.
URL:https://www.danvillearts.org/event/writers-group-3/
CATEGORIES:All,Community Events
END:VEVENT
BEGIN:VEVENT
DTSTART;TZID=America/Kentucky/Louisville:20191003T075000
DTEND;TZID=America/Kentucky/Louisville:20191003T080000
DTSTAMP:20260419T181236
CREATED:20191017T192739Z
LAST-MODIFIED:20191017T193201Z
UID:1932-1570089000-1570089600@www.danvillearts.org
SUMMARY:Arts Commission on Charlie Perry Show
DESCRIPTION:Tune in to Charlie’s show\, WHIR 1230AM\, at 7:50 for arts and Arts Commission news.
URL:https://www.danvillearts.org/event/arts-commission-on-charlie-perry-show/
CATEGORIES:Arts Commission,Community Events
END:VEVENT
BEGIN:VEVENT
DTSTART;TZID=America/Kentucky/Louisville:20191003T075000
DTEND;TZID=America/Kentucky/Louisville:20191003T080000
DTSTAMP:20260419T181236
CREATED:20191017T192739Z
LAST-MODIFIED:20191017T193201Z
UID:1932-1570089000-1570089600@www.danvillearts.org
SUMMARY:Arts Commission on Charlie Perry Show
DESCRIPTION:Tune in to Charlie’s show\, WHIR 1230AM\, at 7:50 for arts and Arts Commission news.
URL:https://www.danvillearts.org/event/arts-commission-on-charlie-perry-show/
CATEGORIES:Arts Commission,Community Events
END:VEVENT
BEGIN:VEVENT
DTSTART;TZID=America/Kentucky/Louisville:20191003T075000
DTEND;TZID=America/Kentucky/Louisville:20191003T080000
DTSTAMP:20260419T181236
CREATED:20191017T192739Z
LAST-MODIFIED:20191017T193201Z
UID:1932-1570089000-1570089600@www.danvillearts.org
SUMMARY:Arts Commission on Charlie Perry Show
DESCRIPTION:Tune in to Charlie’s show\, WHIR 1230AM\, at 7:50 for arts and Arts Commission news.
URL:https://www.danvillearts.org/event/arts-commission-on-charlie-perry-show/
CATEGORIES:Arts Commission,Community Events
END:VEVENT
BEGIN:VEVENT
DTSTART;TZID=America/Kentucky/Louisville:20181112T173000
DTEND;TZID=America/Kentucky/Louisville:20181112T173000
DTSTAMP:20260419T181236
CREATED:20181101T153929Z
LAST-MODIFIED:20190210T191443Z
UID:1439-1542043800-1542043800@www.danvillearts.org
SUMMARY:Writer's Group
DESCRIPTION:Regular monthly meeting – new members are welcome.
URL:https://www.danvillearts.org/event/writers-group-3/
CATEGORIES:All,Community Events
END:VEVENT
BEGIN:VEVENT
DTSTART;TZID=America/Kentucky/Louisville:20190408T173000
DTEND;TZID=America/Kentucky/Louisville:20190408T173000
DTSTAMP:20260419T181236
CREATED:20190328T161129Z
LAST-MODIFIED:20190328T165237Z
UID:1789-1554744600-1554744600@www.danvillearts.org
SUMMARY:Writers' Group
DESCRIPTION:All writers are welcome to attend this group\, no matter what your level and style.
URL:https://www.danvillearts.org/event/writers-group-5/
LOCATION:Boyle County Public Library\, 307 West Broadway St.\, Danville\, KY\, 40422
CATEGORIES:All,Community Events
END:VEVENT
BEGIN:VEVENT
DTSTART;TZID=America/Kentucky/Louisville:20181112T173000
DTEND;TZID=America/Kentucky/Louisville:20181112T173000
DTSTAMP:20260419T181236
CREATED:20181101T153929Z
LAST-MODIFIED:20190210T191443Z
UID:1439-1542043800-1542043800@www.danvillearts.org
SUMMARY:Writer's Group
DESCRIPTION:Regular monthly meeting – new members are welcome.
URL:https://www.danvillearts.org/event/writers-group-3/
CATEGORIES:All,Community Events
END:VEVENT
BEGIN:VEVENT
DTSTART;TZID=America/Kentucky/Louisville:20190408T173000
DTEND;TZID=America/Kentucky/Louisville:20190408T173000
DTSTAMP:20260419T181236
CREATED:20190328T161129Z
LAST-MODIFIED:20190328T165237Z
UID:1789-1554744600-1554744600@www.danvillearts.org
SUMMARY:Writers' Group
DESCRIPTION:All writers are welcome to attend this group\, no matter what your level and style.
URL:https://www.danvillearts.org/event/writers-group-5/
LOCATION:Boyle County Public Library\, 307 West Broadway St.\, Danville\, KY\, 40422
CATEGORIES:All,Community Events
END:VEVENT
BEGIN:VEVENT
DTSTART;TZID=America/Kentucky/Louisville:20181112T173000
DTEND;TZID=America/Kentucky/Louisville:20181112T173000
DTSTAMP:20260419T181236
CREATED:20181101T153929Z
LAST-MODIFIED:20190210T191443Z
UID:1439-1542043800-1542043800@www.danvillearts.org
SUMMARY:Writer's Group
DESCRIPTION:Regular monthly meeting – new members are welcome.
URL:https://www.danvillearts.org/event/writers-group-3/
CATEGORIES:All,Community Events
END:VEVENT
BEGIN:VEVENT
DTSTART;TZID=America/Kentucky/Louisville:20181112T173000
DTEND;TZID=America/Kentucky/Louisville:20181112T173000
DTSTAMP:20260419T181236
CREATED:20181101T153929Z
LAST-MODIFIED:20190210T191443Z
UID:1439-1542043800-1542043800@www.danvillearts.org
SUMMARY:Writer's Group
DESCRIPTION:Regular monthly meeting – new members are welcome.
URL:https://www.danvillearts.org/event/writers-group-3/
CATEGORIES:All,Community Events
END:VEVENT
BEGIN:VEVENT
DTSTART;TZID=America/Kentucky/Louisville:20181112T173000
DTEND;TZID=America/Kentucky/Louisville:20181112T173000
DTSTAMP:20260419T181236
CREATED:20181101T153929Z
LAST-MODIFIED:20190210T191443Z
UID:1439-1542043800-1542043800@www.danvillearts.org
SUMMARY:Writer's Group
DESCRIPTION:Regular monthly meeting – new members are welcome.
URL:https://www.danvillearts.org/event/writers-group-3/
CATEGORIES:All,Community Events
END:VEVENT
BEGIN:VEVENT
DTSTART;TZID=America/Kentucky/Louisville:20181112T173000
DTEND;TZID=America/Kentucky/Louisville:20181112T173000
DTSTAMP:20260419T181236
CREATED:20181101T153929Z
LAST-MODIFIED:20190210T191443Z
UID:1439-1542043800-1542043800@www.danvillearts.org
SUMMARY:Writer's Group
DESCRIPTION:Regular monthly meeting – new members are welcome.
URL:https://www.danvillearts.org/event/writers-group-3/
CATEGORIES:All,Community Events
END:VEVENT
BEGIN:VEVENT
DTSTART;TZID=America/Kentucky/Louisville:20181112T173000
DTEND;TZID=America/Kentucky/Louisville:20181112T173000
DTSTAMP:20260419T181236
CREATED:20181101T153929Z
LAST-MODIFIED:20190210T191443Z
UID:1439-1542043800-1542043800@www.danvillearts.org
SUMMARY:Writer's Group
DESCRIPTION:Regular monthly meeting – new members are welcome.
URL:https://www.danvillearts.org/event/writers-group-3/
CATEGORIES:All,Community Events
END:VEVENT
BEGIN:VEVENT
DTSTART;VALUE=DATE:20200522
DTEND;VALUE=DATE:20200523
DTSTAMP:20260419T181236
CREATED:20200521T150517Z
LAST-MODIFIED:20200521T150517Z
UID:2092-1590105600-1590191999@www.danvillearts.org
SUMMARY:Art Seek and Find #1
DESCRIPTION:
URL:https://www.danvillearts.org/event/art-seek-and-find-1/
LOCATION:Downtown Danville\, Danville\, Kentucky\, 40422
CATEGORIES:Arts Commission,Community Events
END:VEVENT
BEGIN:VEVENT
DTSTART;VALUE=DATE:20200526
DTEND;VALUE=DATE:20200527
DTSTAMP:20260419T181236
CREATED:20200526T152259Z
LAST-MODIFIED:20200526T152259Z
UID:2096-1590451200-1590537599@www.danvillearts.org
SUMMARY:Art Seek and Find #2
DESCRIPTION:
URL:https://www.danvillearts.org/event/art-seek-and-find-2/
LOCATION:Downtown Danville\, Danville\, Kentucky\, 40422
CATEGORIES:Arts Commission,Community Events
END:VEVENT
BEGIN:VEVENT
DTSTART;VALUE=DATE:20200529
DTEND;VALUE=DATE:20200530
DTSTAMP:20260419T181236
CREATED:20200529T142030Z
LAST-MODIFIED:20200529T142030Z
UID:2100-1590710400-1590796799@www.danvillearts.org
SUMMARY:Art Seek and Find #3
DESCRIPTION:
URL:https://www.danvillearts.org/event/art-seek-and-find-3/
LOCATION:Downtown Danville\, Danville\, Kentucky\, 40422
CATEGORIES:All,Arts Commission,Community Events
END:VEVENT
BEGIN:VEVENT
DTSTART;VALUE=DATE:20200602
DTEND;VALUE=DATE:20200603
DTSTAMP:20260419T181236
CREATED:20200602T152003Z
LAST-MODIFIED:20200602T152003Z
UID:2103-1591056000-1591142399@www.danvillearts.org
SUMMARY:Art Seek and Find #4
DESCRIPTION:
URL:https://www.danvillearts.org/event/art-seek-and-find-4/
LOCATION:Downtown Danville\, Danville\, Kentucky\, 40422
CATEGORIES:All,Arts Commission,Community Events
END:VEVENT
BEGIN:VEVENT
DTSTART;VALUE=DATE:20200605
DTEND;VALUE=DATE:20200606
DTSTAMP:20260419T181236
CREATED:20200608T135741Z
LAST-MODIFIED:20200608T135741Z
UID:2107-1591315200-1591401599@www.danvillearts.org
SUMMARY:Art Seek and Find #5
DESCRIPTION:
URL:https://www.danvillearts.org/event/art-seek-and-find-5/
LOCATION:Downtown Danville\, Danville\, Kentucky\, 40422
CATEGORIES:All,Arts Commission,Community Events
END:VEVENT
BEGIN:VEVENT
DTSTART;TZID=America/Kentucky/Louisville:20181112T173000
DTEND;TZID=America/Kentucky/Louisville:20181112T173000
DTSTAMP:20260419T181236
CREATED:20181101T153929Z
LAST-MODIFIED:20190210T191443Z
UID:1439-1542043800-1542043800@www.danvillearts.org
SUMMARY:Writer's Group
DESCRIPTION:Regular monthly meeting – new members are welcome.
URL:https://www.danvillearts.org/event/writers-group-3/
CATEGORIES:All,Community Events
END:VEVENT
END:VCALENDAR