BEGIN:VCALENDAR
VERSION:2.0
PRODID:-//The Arts Commission of Danville / Boyle County - ECPv6.15.20//NONSGML v1.0//EN
CALSCALE:GREGORIAN
METHOD:PUBLISH
X-ORIGINAL-URL:https://www.danvillearts.org
X-WR-CALDESC:Events for The Arts Commission of Danville / Boyle County
REFRESH-INTERVAL;VALUE=DURATION:PT1H
X-Robots-Tag:noindex
X-PUBLISHED-TTL:PT1H
BEGIN:VTIMEZONE
TZID:America/Kentucky/Louisville
BEGIN:DAYLIGHT
TZOFFSETFROM:-0500
TZOFFSETTO:-0400
TZNAME:EDT
DTSTART:20170312T070000
END:DAYLIGHT
BEGIN:STANDARD
TZOFFSETFROM:-0400
TZOFFSETTO:-0500
TZNAME:EST
DTSTART:20171105T060000
END:STANDARD
BEGIN:DAYLIGHT
TZOFFSETFROM:-0500
TZOFFSETTO:-0400
TZNAME:EDT
DTSTART:20180311T070000
END:DAYLIGHT
BEGIN:STANDARD
TZOFFSETFROM:-0400
TZOFFSETTO:-0500
TZNAME:EST
DTSTART:20181104T060000
END:STANDARD
BEGIN:DAYLIGHT
TZOFFSETFROM:-0500
TZOFFSETTO:-0400
TZNAME:EDT
DTSTART:20190310T070000
END:DAYLIGHT
BEGIN:STANDARD
TZOFFSETFROM:-0400
TZOFFSETTO:-0500
TZNAME:EST
DTSTART:20191103T060000
END:STANDARD
BEGIN:DAYLIGHT
TZOFFSETFROM:-0500
TZOFFSETTO:-0400
TZNAME:EDT
DTSTART:20200308T070000
END:DAYLIGHT
BEGIN:STANDARD
TZOFFSETFROM:-0400
TZOFFSETTO:-0500
TZNAME:EST
DTSTART:20201101T060000
END:STANDARD
END:VTIMEZONE
BEGIN:VEVENT
DTSTART;TZID=America/Kentucky/Louisville:20181004T100000
DTEND;TZID=America/Kentucky/Louisville:20181004T160000
DTSTAMP:20260419T205043
CREATED:20181002T161921Z
LAST-MODIFIED:20181002T161921Z
UID:1247-1538647200-1538668800@www.danvillearts.org
SUMMARY:Civil War Quilt Workshop
DESCRIPTION:Two day workshop on construction and history of Civil War era quilts.  Small group instruction led by Linda Marean and Shelia Dolan in Perryville.  Workshop sponsored by the Arts Commission and the Pieceable Friends Quilt Guild. \nRegister at arts @historicdanvilleky.com
URL:https://www.danvillearts.org/event/civil-war-quilt-workshop/
LOCATION:Perryville Jamboree\, 103 N. Bragg St.\, Perryville\, Kentucky\, 40468
CATEGORIES:All,Arts Commission,Community Events
END:VEVENT
BEGIN:VEVENT
DTSTART;TZID=America/Kentucky/Louisville:20181006T100000
DTEND;TZID=America/Kentucky/Louisville:20181006T160000
DTSTAMP:20260419T205043
CREATED:20181002T162258Z
LAST-MODIFIED:20181002T162258Z
UID:1252-1538820000-1538841600@www.danvillearts.org
SUMMARY:Civil War Quilt Exhibit
DESCRIPTION:Exhibit of Civil War era replica and antique quilts as well as demonstrations of quilting\, and vintage and antique sewing machines. \nFree and open to the public.  Donations accepted. \nEvent sponsored by the Arts Commission and the Pieceable Friends Quilt Guild.
URL:https://www.danvillearts.org/event/civil-war-quilt-exhibit/
LOCATION:Perryville Jamboree\, 103 N. Bragg St.\, Perryville\, Kentucky\, 40468
CATEGORIES:All,Arts Commission,Community Events
END:VEVENT
BEGIN:VEVENT
DTSTART;TZID=America/Kentucky/Louisville:20181008T173000
DTEND;TZID=America/Kentucky/Louisville:20181008T173000
DTSTAMP:20260419T205043
CREATED:20181002T164118Z
LAST-MODIFIED:20181002T164118Z
UID:1267-1539019800-1539019800@www.danvillearts.org
SUMMARY:Writer's Group
DESCRIPTION:Regular monthly meeting.  Newcomers and visitors welcome.
URL:https://www.danvillearts.org/event/writers-group-2/
LOCATION:Boyle County Public Library\, 307 West Broadway St.\, Danville\, KY\, 40422
CATEGORIES:All,Community Events
END:VEVENT
BEGIN:VEVENT
DTSTART;TZID=America/Kentucky/Louisville:20181011T190000
DTEND;TZID=America/Kentucky/Louisville:20181011T190000
DTSTAMP:20260419T205043
CREATED:20181002T165501Z
LAST-MODIFIED:20181002T165501Z
UID:1274-1539284400-1539284400@www.danvillearts.org
SUMMARY:Will Solomon
DESCRIPTION:In concert presented by Kentucky Music Preview.
URL:https://www.danvillearts.org/event/will-solomon/
LOCATION:West T. Hill Community Theatre\, 117 Larrimore Lane\, Danville\, KY\, 40422
CATEGORIES:All,Community Events
END:VEVENT
BEGIN:VEVENT
DTSTART;VALUE=DATE:20181012
DTEND;VALUE=DATE:20181013
DTSTAMP:20260419T205043
CREATED:20181002T165233Z
LAST-MODIFIED:20181002T165233Z
UID:1271-1539302400-1539388799@www.danvillearts.org
SUMMARY:Forkland Festival
DESCRIPTION:Arts\, crafts\, food\, games\, exhibits and entertainment.  For schedule and ticket information\, contact the Forkland website.
URL:https://www.danvillearts.org/event/forkland-festival/
LOCATION:Forkland Community Center\, Highway 37\, Forkland\, KY
CATEGORIES:All,Community Events
END:VEVENT
BEGIN:VEVENT
DTSTART;VALUE=DATE:20181012
DTEND;VALUE=DATE:20181013
DTSTAMP:20260419T205043
CREATED:20181002T165233Z
LAST-MODIFIED:20181002T165233Z
UID:1271-1539302400-1539388799@www.danvillearts.org
SUMMARY:Forkland Festival
DESCRIPTION:Arts\, crafts\, food\, games\, exhibits and entertainment.  For schedule and ticket information\, contact the Forkland website.
URL:https://www.danvillearts.org/event/forkland-festival/
LOCATION:Forkland Community Center\, Highway 37\, Forkland\, KY
CATEGORIES:All,Community Events
END:VEVENT
BEGIN:VEVENT
DTSTART;TZID=America/Kentucky/Louisville:20181017T120000
DTEND;TZID=America/Kentucky/Louisville:20181017T120000
DTSTAMP:20260419T205043
CREATED:20181002T165738Z
LAST-MODIFIED:20181002T165738Z
UID:1276-1539777600-1539777600@www.danvillearts.org
SUMMARY:Lunch with the Arts
DESCRIPTION:Lee Patrick and Loren Tice\, saxophone and piano duo.
URL:https://www.danvillearts.org/event/lunch-with-the-arts-2/
LOCATION:Community Arts Center\, 401 West Main St.
CATEGORIES:All,Community Events
END:VEVENT
BEGIN:VEVENT
DTSTART;TZID=America/Kentucky/Louisville:20181031T090000
DTEND;TZID=America/Kentucky/Louisville:20181031T090000
DTSTAMP:20260419T205043
CREATED:20181002T155710Z
LAST-MODIFIED:20181002T155710Z
UID:1230-1540976400-1540976400@www.danvillearts.org
SUMMARY:Aegon Gallery
DESCRIPTION:Humanities Exhibit of 19th C French Bronze Sculptures opens Oct. 31st. \nThe exhibit runs until November 9th and is open Monday – Friday 9:00 – 4:00.  The Gallery is in the Jones Visual Arts Center. \nOpen to the public.
URL:https://www.danvillearts.org/event/aegon-gallery/
LOCATION:Jones Visual Arts Center\, 209 Beatty Ave.\, Danville\, Kentucky\, 40422
CATEGORIES:All,Community Events
END:VEVENT
BEGIN:VEVENT
DTSTART;TZID=America/Kentucky/Louisville:20181102T150000
DTEND;TZID=America/Kentucky/Louisville:20181102T150000
DTSTAMP:20260419T205043
CREATED:20181101T145746Z
LAST-MODIFIED:20181101T150708Z
UID:1423-1541170800-1541170800@www.danvillearts.org
SUMMARY:Stephen Nasser - Author Talk
DESCRIPTION:Stephen Nasser\, Holocaust survivor and author/playwright\, will talk about his experiences as a young boy.  His topic is “My Bother’s Voice.”  Mr. Nasser is in town for the Bate student production of his play\,  Not Yet\, Pista\, this weekend at Gravely Hall. \nThe Library talk is free and open to the public. \nThe Bate student production is sponsored\, in part\, by the Scarlet Cup.
URL:https://www.danvillearts.org/event/stephen-nasser-author-talk/
LOCATION:Boyle County Public Library\, 307 West Broadway St.\, Danville\, KY\, 40422
CATEGORIES:All,Community Events,Scarlet Cup
END:VEVENT
BEGIN:VEVENT
DTSTART;TZID=America/Kentucky/Louisville:20181103T193000
DTEND;TZID=America/Kentucky/Louisville:20181103T193000
DTSTAMP:20260419T205043
CREATED:20181101T151017Z
LAST-MODIFIED:20181101T151017Z
UID:1425-1541273400-1541273400@www.danvillearts.org
SUMMARY:200 Strong
DESCRIPTION:Centre Choir will perform with several other choirs in a free and open to the public concert.
URL:https://www.danvillearts.org/event/200-strong/
LOCATION:Newlin Hall at Centre College
CATEGORIES:All,Community Events
END:VEVENT
BEGIN:VEVENT
DTSTART;TZID=America/Kentucky/Louisville:20181112T173000
DTEND;TZID=America/Kentucky/Louisville:20181112T173000
DTSTAMP:20260419T205043
CREATED:20181101T153929Z
LAST-MODIFIED:20190210T191443Z
UID:1439-1542043800-1542043800@www.danvillearts.org
SUMMARY:Writer's Group
DESCRIPTION:Regular monthly meeting – new members are welcome.
URL:https://www.danvillearts.org/event/writers-group-3/
LOCATION:Kentucky
CATEGORIES:All,Community Events
END:VEVENT
BEGIN:VEVENT
DTSTART;TZID=America/Kentucky/Louisville:20181114T120000
DTEND;TZID=America/Kentucky/Louisville:20181114T120000
DTSTAMP:20260419T205043
CREATED:20181101T160521Z
LAST-MODIFIED:20181101T160521Z
UID:1465-1542196800-1542196800@www.danvillearts.org
SUMMARY:Lunch with the Arts
DESCRIPTION:Lydia DiMartino-Ellis will discuss therapeutic music.
URL:https://www.danvillearts.org/event/lunch-with-the-arts-3/
LOCATION:Community Arts Center\, 401 West Main St.
CATEGORIES:All,Community Events
END:VEVENT
BEGIN:VEVENT
DTSTART;TZID=America/Kentucky/Louisville:20181202T140000
DTEND;TZID=America/Kentucky/Louisville:20181202T160000
DTSTAMP:20260419T205043
CREATED:20181128T165607Z
LAST-MODIFIED:20181128T165607Z
UID:1489-1543759200-1543766400@www.danvillearts.org
SUMMARY:Garden Club of Danville "Green Tea"
DESCRIPTION:Enjoy the beautifully decorated McDowell House hosted by the Garden Club of Danville.  The Garden Club has decorated the historic home with Christmas arrangements which are appropriate to the 19th Century.  Music and refreshments will complete your experience. \nThere is no admission charge.  Donations are accepted to benefit the Salvation Army and the Family Services Association of Boyle County.
URL:https://www.danvillearts.org/event/garden-club-of-danville-green-tea/
LOCATION:McDowell House\, 125 S. 2nd St.\, Danville\, KY\, 40422
CATEGORIES:All,Community Events
END:VEVENT
BEGIN:VEVENT
DTSTART;TZID=America/Kentucky/Louisville:20181206T190000
DTEND;TZID=America/Kentucky/Louisville:20181206T200000
DTSTAMP:20260419T205043
CREATED:20181128T164911Z
LAST-MODIFIED:20181128T164911Z
UID:1485-1544122800-1544126400@www.danvillearts.org
SUMMARY:Library Trivia Nights
DESCRIPTION:Get a team together\, all ages welcome\, and brush up on Library facts.  This event is leading up to the celebration of the Boyle County Library’s 125th birthday. \nGreat prizes if you know your stuff!
URL:https://www.danvillearts.org/event/library-trivia-nights/
LOCATION:Boyle County Public Library\, 307 West Broadway St.\, Danville\, KY\, 40422
CATEGORIES:All,Community Events
END:VEVENT
BEGIN:VEVENT
DTSTART;TZID=America/Kentucky/Louisville:20181112T173000
DTEND;TZID=America/Kentucky/Louisville:20181112T173000
DTSTAMP:20260419T205043
CREATED:20181101T153929Z
LAST-MODIFIED:20190210T191443Z
UID:1439-1542043800-1542043800@www.danvillearts.org
SUMMARY:Writer's Group
DESCRIPTION:Regular monthly meeting – new members are welcome.
URL:https://www.danvillearts.org/event/writers-group-3/
LOCATION:Kentucky
CATEGORIES:All,Community Events
END:VEVENT
BEGIN:VEVENT
DTSTART;TZID=America/Kentucky/Louisville:20181211T193000
DTEND;TZID=America/Kentucky/Louisville:20181211T193000
DTSTAMP:20260419T205043
CREATED:20181128T175634Z
LAST-MODIFIED:20181128T175634Z
UID:1543-1544556600-1544556600@www.danvillearts.org
SUMMARY:Sounding Joy and Resonance Men's Concert
DESCRIPTION:Concert is free and open to the public.
URL:https://www.danvillearts.org/event/sounding-joy-and-resonance-mens-concert/
LOCATION:PRESBYTERIAN CHURCH\, 500 West Main St.\, Danville\, KY\, 40422
CATEGORIES:All,Community Events
END:VEVENT
BEGIN:VEVENT
DTSTART;TZID=America/Kentucky/Louisville:20181213T190000
DTEND;TZID=America/Kentucky/Louisville:20181213T190000
DTSTAMP:20260419T205043
CREATED:20181128T180402Z
LAST-MODIFIED:20181128T180402Z
UID:1553-1544727600-1544727600@www.danvillearts.org
SUMMARY:Kentucky Music Preview
DESCRIPTION:Family friendly concert featuring Chelsea Nolan. \nAdmission $8.00 at the door. \nDoors open at 6:30 pm.
URL:https://www.danvillearts.org/event/kentucky-music-preview/
LOCATION:West T. Hill Community Theatre\, 117 Larrimore Lane\, Danville\, KY\, 40422
CATEGORIES:All,Community Events
END:VEVENT
BEGIN:VEVENT
DTSTART;TZID=America/Kentucky/Louisville:20181206T190000
DTEND;TZID=America/Kentucky/Louisville:20181206T200000
DTSTAMP:20260419T205043
CREATED:20181128T164911Z
LAST-MODIFIED:20181128T164911Z
UID:1485-1544122800-1544126400@www.danvillearts.org
SUMMARY:Library Trivia Nights
DESCRIPTION:Get a team together\, all ages welcome\, and brush up on Library facts.  This event is leading up to the celebration of the Boyle County Library’s 125th birthday. \nGreat prizes if you know your stuff!
URL:https://www.danvillearts.org/event/library-trivia-nights/
LOCATION:Boyle County Public Library\, 307 West Broadway St.\, Danville\, KY\, 40422
CATEGORIES:All,Community Events
END:VEVENT
BEGIN:VEVENT
DTSTART;TZID=America/Kentucky/Louisville:20181219T120000
DTEND;TZID=America/Kentucky/Louisville:20181219T130000
DTSTAMP:20260419T205043
CREATED:20181128T180005Z
LAST-MODIFIED:20181128T180005Z
UID:1549-1545220800-1545224400@www.danvillearts.org
SUMMARY:Lunch with the Arts
DESCRIPTION:Young at Heart Band will perform favorite numbers. \nAdmission $5.00
URL:https://www.danvillearts.org/event/lunch-with-the-arts-4/
LOCATION:Community Arts Center\, 401 West Main St.
CATEGORIES:All,Community Events
END:VEVENT
BEGIN:VEVENT
DTSTART;TZID=America/Kentucky/Louisville:20181206T190000
DTEND;TZID=America/Kentucky/Louisville:20181206T200000
DTSTAMP:20260419T205043
CREATED:20181128T164911Z
LAST-MODIFIED:20181128T164911Z
UID:1485-1544122800-1544126400@www.danvillearts.org
SUMMARY:Library Trivia Nights
DESCRIPTION:Get a team together\, all ages welcome\, and brush up on Library facts.  This event is leading up to the celebration of the Boyle County Library’s 125th birthday. \nGreat prizes if you know your stuff!
URL:https://www.danvillearts.org/event/library-trivia-nights/
LOCATION:Boyle County Public Library\, 307 West Broadway St.\, Danville\, KY\, 40422
CATEGORIES:All,Community Events
END:VEVENT
BEGIN:VEVENT
DTSTART;TZID=America/Kentucky/Louisville:20181112T173000
DTEND;TZID=America/Kentucky/Louisville:20181112T173000
DTSTAMP:20260419T205043
CREATED:20181101T153929Z
LAST-MODIFIED:20190210T191443Z
UID:1439-1542043800-1542043800@www.danvillearts.org
SUMMARY:Writer's Group
DESCRIPTION:Regular monthly meeting – new members are welcome.
URL:https://www.danvillearts.org/event/writers-group-3/
LOCATION:Kentucky
CATEGORIES:All,Community Events
END:VEVENT
BEGIN:VEVENT
DTSTART;TZID=America/Kentucky/Louisville:20190206T130000
DTEND;TZID=America/Kentucky/Louisville:20190206T130000
DTSTAMP:20260419T205043
CREATED:20190131T173750Z
LAST-MODIFIED:20190131T173750Z
UID:1611-1549458000-1549458000@www.danvillearts.org
SUMMARY:Garden Club of Danville
DESCRIPTION:Program – “Gardening for the Birds” with Nic Patton from Wild Birds Unlimited in Lexington.  Nic will discuss gardening for birds including year-round feeding. \nDesign – Stretch Design (HB pp 209-210) with green and dried plant material \nHorticulture – Forced Arboreal Specimen (HB p. 106) or any worthy specimen \nVisitors and prospective members are always welcome.  For more information about the club and its activities\, see www.thegardenclubofdanville.org \n 
URL:https://www.danvillearts.org/event/garden-club-of-danville-2/
LOCATION:Boyle County Extension Office\, 99 Corporate Drive\, Danville\, Kentucky\, 40422
CATEGORIES:All,Community Events
END:VEVENT
BEGIN:VEVENT
DTSTART;TZID=America/Kentucky/Louisville:20181112T173000
DTEND;TZID=America/Kentucky/Louisville:20181112T173000
DTSTAMP:20260419T205043
CREATED:20181101T153929Z
LAST-MODIFIED:20190210T191443Z
UID:1439-1542043800-1542043800@www.danvillearts.org
SUMMARY:Writer's Group
DESCRIPTION:Regular monthly meeting – new members are welcome.
URL:https://www.danvillearts.org/event/writers-group-3/
LOCATION:Kentucky
CATEGORIES:All,Community Events
END:VEVENT
BEGIN:VEVENT
DTSTART;TZID=America/Kentucky/Louisville:20190211T173000
DTEND;TZID=America/Kentucky/Louisville:20190211T173000
DTSTAMP:20260419T205043
CREATED:20190131T181316Z
LAST-MODIFIED:20190131T181316Z
UID:1629-1549906200-1549906200@www.danvillearts.org
SUMMARY:Writer's Group
DESCRIPTION:Regular monthly session\, free and open to anyone interested in improving their creative writing skills.
URL:https://www.danvillearts.org/event/writers-group-4/
LOCATION:Boyle County Public Library\, 307 West Broadway St.\, Danville\, KY\, 40422
CATEGORIES:All,Community Events
END:VEVENT
BEGIN:VEVENT
DTSTART;VALUE=DATE:20190213
DTEND;VALUE=DATE:20190214
DTSTAMP:20260419T205043
CREATED:20190131T180200Z
LAST-MODIFIED:20190131T180200Z
UID:1623-1550016000-1550102399@www.danvillearts.org
SUMMARY:Chamber of Commerce Arts and Culture Day
DESCRIPTION:Chamber’s Leadership Boyle Class of 2018 – 2019 will spend the day meeting with many of the programs and visiting the venues which make Danville and Boyle County so special as an arts aware and varied community.
URL:https://www.danvillearts.org/event/chamber-of-commerce-arts-and-culture-day/
LOCATION:Kentucky
CATEGORIES:All,Community Events
END:VEVENT
BEGIN:VEVENT
DTSTART;TZID=America/Kentucky/Louisville:20190214T190000
DTEND;TZID=America/Kentucky/Louisville:20190214T190000
DTSTAMP:20260419T205043
CREATED:20190131T181054Z
LAST-MODIFIED:20190131T181054Z
UID:1627-1550170800-1550170800@www.danvillearts.org
SUMMARY:Kentucky Music Preview
DESCRIPTION:Kentucky music in a family friendly atmosphere. \nThe Sway performs at 7:00. \nTickets at the door – $10.00
URL:https://www.danvillearts.org/event/kentucky-music-preview-2/
LOCATION:West T. Hill Community Theatre\, 117 Larrimore Lane\, Danville\, KY\, 40422
CATEGORIES:All,Community Events
END:VEVENT
BEGIN:VEVENT
DTSTART;TZID=America/Kentucky/Louisville:20190220T120000
DTEND;TZID=America/Kentucky/Louisville:20190220T120000
DTSTAMP:20260419T205043
CREATED:20190131T181515Z
LAST-MODIFIED:20190131T181515Z
UID:1631-1550664000-1550664000@www.danvillearts.org
SUMMARY:Lunch with the Arts
DESCRIPTION:Meet local poet\, Maurice Manning. \n$5.00 at the door.
URL:https://www.danvillearts.org/event/lunch-with-the-arts-5/
LOCATION:Community Arts Center\, 401 West Main St.
CATEGORIES:All,Community Events
END:VEVENT
BEGIN:VEVENT
DTSTART;TZID=America/Kentucky/Louisville:20190221T100000
DTEND;TZID=America/Kentucky/Louisville:20190221T100000
DTSTAMP:20260419T205043
CREATED:20190131T182200Z
LAST-MODIFIED:20190131T183233Z
UID:1635-1550743200-1550743200@www.danvillearts.org
SUMMARY:Third Thursday Book Club - morning
DESCRIPTION:Seabiscuit by Laura Hillenbrand \nFree and open to the public.
URL:https://www.danvillearts.org/event/thursday-book-club/
LOCATION:Boyle County Public Library\, 307 West Broadway St.\, Danville\, KY\, 40422
CATEGORIES:All,Community Events
END:VEVENT
BEGIN:VEVENT
DTSTART;TZID=America/Kentucky/Louisville:20190221T160000
DTEND;TZID=America/Kentucky/Louisville:20190221T160000
DTSTAMP:20260419T205044
CREATED:20190131T181727Z
LAST-MODIFIED:20190131T181727Z
UID:1633-1550764800-1550764800@www.danvillearts.org
SUMMARY:Friends of the Library
DESCRIPTION:The Underground Railroad in Kentucky \nFree and open to the public.
URL:https://www.danvillearts.org/event/friends-of-the-library/
LOCATION:Boyle County Public Library\, 307 West Broadway St.\, Danville\, KY\, 40422
CATEGORIES:All,Community Events
END:VEVENT
BEGIN:VEVENT
DTSTART;TZID=America/Kentucky/Louisville:20190221T160000
DTEND;TZID=America/Kentucky/Louisville:20190221T160000
DTSTAMP:20260419T205044
CREATED:20190131T182421Z
LAST-MODIFIED:20190131T182651Z
UID:1637-1550764800-1550764800@www.danvillearts.org
SUMMARY:Third Thursday Book Club - afternoon
DESCRIPTION:The Postmistress by Sarah Blake \nFree and open to the public
URL:https://www.danvillearts.org/event/third-thursday-book-club-afternoon/
LOCATION:Boyle County Public Library\, 307 West Broadway St.\, Danville\, KY\, 40422
CATEGORIES:All,Community Events
END:VEVENT
END:VCALENDAR