BEGIN:VCALENDAR
VERSION:2.0
PRODID:-//The Arts Commission of Danville / Boyle County - ECPv6.15.20//NONSGML v1.0//EN
CALSCALE:GREGORIAN
METHOD:PUBLISH
X-WR-CALNAME:The Arts Commission of Danville / Boyle County
X-ORIGINAL-URL:https://www.danvillearts.org
X-WR-CALDESC:Events for The Arts Commission of Danville / Boyle County
REFRESH-INTERVAL;VALUE=DURATION:PT1H
X-Robots-Tag:noindex
X-PUBLISHED-TTL:PT1H
BEGIN:VTIMEZONE
TZID:America/Kentucky/Louisville
BEGIN:DAYLIGHT
TZOFFSETFROM:-0500
TZOFFSETTO:-0400
TZNAME:EDT
DTSTART:20180311T070000
END:DAYLIGHT
BEGIN:STANDARD
TZOFFSETFROM:-0400
TZOFFSETTO:-0500
TZNAME:EST
DTSTART:20181104T060000
END:STANDARD
BEGIN:DAYLIGHT
TZOFFSETFROM:-0500
TZOFFSETTO:-0400
TZNAME:EDT
DTSTART:20190310T070000
END:DAYLIGHT
BEGIN:STANDARD
TZOFFSETFROM:-0400
TZOFFSETTO:-0500
TZNAME:EST
DTSTART:20191103T060000
END:STANDARD
BEGIN:DAYLIGHT
TZOFFSETFROM:-0500
TZOFFSETTO:-0400
TZNAME:EDT
DTSTART:20200308T070000
END:DAYLIGHT
BEGIN:STANDARD
TZOFFSETFROM:-0400
TZOFFSETTO:-0500
TZNAME:EST
DTSTART:20201101T060000
END:STANDARD
END:VTIMEZONE
BEGIN:VEVENT
DTSTART;TZID=America/Kentucky/Louisville:20190316T180000
DTEND;TZID=America/Kentucky/Louisville:20190316T210000
DTSTAMP:20260419T095339
CREATED:20190225T194345Z
LAST-MODIFIED:20190225T194345Z
UID:1712-1552759200-1552770000@www.danvillearts.org
SUMMARY:Rotary International Dinner
DESCRIPTION:Enjoy foods from over 20 countries prepared by guest chefs.  Dinner raises funds for community projects supported by the Rotary Club of Danville.  This year the major project is the Advanced Manufacturing Facility at BCTC.  Tickets are available by calling\, or texting\, 859-691-0316.  Ticket price is $53.00 including tax.
URL:https://www.danvillearts.org/event/rotary-international-dinner/
LOCATION:Chowan Dining Facility\, Centre College Campus
CATEGORIES:All,Community Events
END:VEVENT
END:VCALENDAR