BEGIN:VCALENDAR
VERSION:2.0
PRODID:-//The Arts Commission of Danville / Boyle County - ECPv6.15.20//NONSGML v1.0//EN
CALSCALE:GREGORIAN
METHOD:PUBLISH
X-ORIGINAL-URL:https://www.danvillearts.org
X-WR-CALDESC:Events for The Arts Commission of Danville / Boyle County
REFRESH-INTERVAL;VALUE=DURATION:PT1H
X-Robots-Tag:noindex
X-PUBLISHED-TTL:PT1H
BEGIN:VTIMEZONE
TZID:America/Kentucky/Louisville
BEGIN:DAYLIGHT
TZOFFSETFROM:-0500
TZOFFSETTO:-0400
TZNAME:EDT
DTSTART:20170312T070000
END:DAYLIGHT
BEGIN:STANDARD
TZOFFSETFROM:-0400
TZOFFSETTO:-0500
TZNAME:EST
DTSTART:20171105T060000
END:STANDARD
BEGIN:DAYLIGHT
TZOFFSETFROM:-0500
TZOFFSETTO:-0400
TZNAME:EDT
DTSTART:20180311T070000
END:DAYLIGHT
BEGIN:STANDARD
TZOFFSETFROM:-0400
TZOFFSETTO:-0500
TZNAME:EST
DTSTART:20181104T060000
END:STANDARD
BEGIN:DAYLIGHT
TZOFFSETFROM:-0500
TZOFFSETTO:-0400
TZNAME:EDT
DTSTART:20190310T070000
END:DAYLIGHT
BEGIN:STANDARD
TZOFFSETFROM:-0400
TZOFFSETTO:-0500
TZNAME:EST
DTSTART:20191103T060000
END:STANDARD
END:VTIMEZONE
BEGIN:VEVENT
DTSTART;TZID=America/Kentucky/Louisville:20181004T100000
DTEND;TZID=America/Kentucky/Louisville:20181004T160000
DTSTAMP:20260419T112623
CREATED:20181002T161921Z
LAST-MODIFIED:20181002T161921Z
UID:1247-1538647200-1538668800@www.danvillearts.org
SUMMARY:Civil War Quilt Workshop
DESCRIPTION:Two day workshop on construction and history of Civil War era quilts.  Small group instruction led by Linda Marean and Shelia Dolan in Perryville.  Workshop sponsored by the Arts Commission and the Pieceable Friends Quilt Guild. \nRegister at arts @historicdanvilleky.com
URL:https://www.danvillearts.org/event/civil-war-quilt-workshop/
LOCATION:Perryville Jamboree\, 103 N. Bragg St.\, Perryville\, Kentucky\, 40468
CATEGORIES:All,Arts Commission,Community Events
END:VEVENT
END:VCALENDAR