BEGIN:VCALENDAR
VERSION:2.0
PRODID:-//The Arts Commission of Danville / Boyle County - ECPv6.15.20//NONSGML v1.0//EN
CALSCALE:GREGORIAN
METHOD:PUBLISH
X-ORIGINAL-URL:https://www.danvillearts.org
X-WR-CALDESC:Events for The Arts Commission of Danville / Boyle County
REFRESH-INTERVAL;VALUE=DURATION:PT1H
X-Robots-Tag:noindex
X-PUBLISHED-TTL:PT1H
BEGIN:VTIMEZONE
TZID:America/Kentucky/Louisville
BEGIN:DAYLIGHT
TZOFFSETFROM:-0500
TZOFFSETTO:-0400
TZNAME:EDT
DTSTART:20170312T070000
END:DAYLIGHT
BEGIN:STANDARD
TZOFFSETFROM:-0400
TZOFFSETTO:-0500
TZNAME:EST
DTSTART:20171105T060000
END:STANDARD
BEGIN:DAYLIGHT
TZOFFSETFROM:-0500
TZOFFSETTO:-0400
TZNAME:EDT
DTSTART:20180311T070000
END:DAYLIGHT
BEGIN:STANDARD
TZOFFSETFROM:-0400
TZOFFSETTO:-0500
TZNAME:EST
DTSTART:20181104T060000
END:STANDARD
BEGIN:DAYLIGHT
TZOFFSETFROM:-0500
TZOFFSETTO:-0400
TZNAME:EDT
DTSTART:20190310T070000
END:DAYLIGHT
BEGIN:STANDARD
TZOFFSETFROM:-0400
TZOFFSETTO:-0500
TZNAME:EST
DTSTART:20191103T060000
END:STANDARD
END:VTIMEZONE
BEGIN:VEVENT
DTSTART;TZID=America/Kentucky/Louisville:20180913T190000
DTEND;TZID=America/Kentucky/Louisville:20180913T190000
DTSTAMP:20260419T124942
CREATED:20180828T185500Z
LAST-MODIFIED:20180911T144031Z
UID:993-1536865200-1536865200@www.danvillearts.org
SUMMARY:Sounding Joy Women's Choir
DESCRIPTION:Open rehearsal.  New participants welcome.
URL:https://www.danvillearts.org/event/sounding-joy-womens-choir/
LOCATION:Lexington Avenue Baptist Church\, 339 West Lexington Ave.\, Danville\, KY\, 40422
CATEGORIES:All,Community Events
END:VEVENT
BEGIN:VEVENT
DTSTART;TZID=America/Kentucky/Louisville:20180913T190000
DTEND;TZID=America/Kentucky/Louisville:20180913T190000
DTSTAMP:20260419T124942
CREATED:20180828T185802Z
LAST-MODIFIED:20180911T143928Z
UID:995-1536865200-1536865200@www.danvillearts.org
SUMMARY:Ryvoli
DESCRIPTION:Concert series.
URL:https://www.danvillearts.org/event/ryvoli/
LOCATION:West T. Hill Community Theatre\, 117 Larrimore Lane\, Danville\, KY\, 40422
CATEGORIES:All,Community Events
END:VEVENT
END:VCALENDAR