BEGIN:VCALENDAR
VERSION:2.0
PRODID:-//The Arts Commission of Danville / Boyle County - ECPv6.15.20//NONSGML v1.0//EN
CALSCALE:GREGORIAN
METHOD:PUBLISH
X-WR-CALNAME:The Arts Commission of Danville / Boyle County
X-ORIGINAL-URL:https://www.danvillearts.org
X-WR-CALDESC:Events for The Arts Commission of Danville / Boyle County
REFRESH-INTERVAL;VALUE=DURATION:PT1H
X-Robots-Tag:noindex
X-PUBLISHED-TTL:PT1H
BEGIN:VTIMEZONE
TZID:America/Kentucky/Louisville
BEGIN:DAYLIGHT
TZOFFSETFROM:-0500
TZOFFSETTO:-0400
TZNAME:EDT
DTSTART:20170312T070000
END:DAYLIGHT
BEGIN:STANDARD
TZOFFSETFROM:-0400
TZOFFSETTO:-0500
TZNAME:EST
DTSTART:20171105T060000
END:STANDARD
BEGIN:DAYLIGHT
TZOFFSETFROM:-0500
TZOFFSETTO:-0400
TZNAME:EDT
DTSTART:20180311T070000
END:DAYLIGHT
BEGIN:STANDARD
TZOFFSETFROM:-0400
TZOFFSETTO:-0500
TZNAME:EST
DTSTART:20181104T060000
END:STANDARD
BEGIN:DAYLIGHT
TZOFFSETFROM:-0500
TZOFFSETTO:-0400
TZNAME:EDT
DTSTART:20190310T070000
END:DAYLIGHT
BEGIN:STANDARD
TZOFFSETFROM:-0400
TZOFFSETTO:-0500
TZNAME:EST
DTSTART:20191103T060000
END:STANDARD
END:VTIMEZONE
BEGIN:VEVENT
DTSTART;TZID=America/Kentucky/Louisville:20180910T173000
DTEND;TZID=America/Kentucky/Louisville:20180910T173000
DTSTAMP:20260419T124836
CREATED:20180829T152546Z
LAST-MODIFIED:20180911T144603Z
UID:1058-1536600600-1536600600@www.danvillearts.org
SUMMARY:Writer's Group
DESCRIPTION:Regular monthly meeting.  New participants welcome.
URL:https://www.danvillearts.org/event/writers-group/
LOCATION:Boyle County Public Library\, 307 West Broadway St.\, Danville\, KY\, 40422
CATEGORIES:All,Community Events
END:VEVENT
BEGIN:VEVENT
DTSTART;TZID=America/Kentucky/Louisville:20180910T190000
DTEND;TZID=America/Kentucky/Louisville:20180910T190000
DTSTAMP:20260419T124836
CREATED:20180828T184903Z
LAST-MODIFIED:20180911T144322Z
UID:985-1536606000-1536606000@www.danvillearts.org
SUMMARY:Danville Children's Choir
DESCRIPTION:First rehearsal of new season. \nFor information on scholarship assistance\, contact Mimi Becker at the Arts Commission. \narts@historicdanvilleky.com
URL:https://www.danvillearts.org/event/danville-childrens-choir/
LOCATION:Lexington Avenue Baptist Church\, 339 West Lexington Ave.\, Danville\, KY\, 40422
CATEGORIES:All,Community Events
END:VEVENT
BEGIN:VEVENT
DTSTART;TZID=America/Kentucky/Louisville:20180910T190000
DTEND;TZID=America/Kentucky/Louisville:20180910T190000
DTSTAMP:20260419T124836
CREATED:20180828T185241Z
LAST-MODIFIED:20180911T144217Z
UID:989-1536606000-1536606000@www.danvillearts.org
SUMMARY:Resonance Men's Choir
DESCRIPTION:Open Rehearsal.  New participants welcome.
URL:https://www.danvillearts.org/event/resonance-mens-choir/
LOCATION:First Christian Church\, 555 East Lexington Ave.\, Danville\, KY\, 40422
CATEGORIES:All,Community Events
END:VEVENT
END:VCALENDAR