BEGIN:VCALENDAR
VERSION:2.0
PRODID:-//The Arts Commission of Danville / Boyle County - ECPv6.15.20//NONSGML v1.0//EN
CALSCALE:GREGORIAN
METHOD:PUBLISH
X-WR-CALNAME:The Arts Commission of Danville / Boyle County
X-ORIGINAL-URL:https://www.danvillearts.org
X-WR-CALDESC:Events for The Arts Commission of Danville / Boyle County
REFRESH-INTERVAL;VALUE=DURATION:PT1H
X-Robots-Tag:noindex
X-PUBLISHED-TTL:PT1H
BEGIN:VTIMEZONE
TZID:America/Kentucky/Louisville
BEGIN:DAYLIGHT
TZOFFSETFROM:-0500
TZOFFSETTO:-0400
TZNAME:EDT
DTSTART:20170312T070000
END:DAYLIGHT
BEGIN:STANDARD
TZOFFSETFROM:-0400
TZOFFSETTO:-0500
TZNAME:EST
DTSTART:20171105T060000
END:STANDARD
BEGIN:DAYLIGHT
TZOFFSETFROM:-0500
TZOFFSETTO:-0400
TZNAME:EDT
DTSTART:20180311T070000
END:DAYLIGHT
BEGIN:STANDARD
TZOFFSETFROM:-0400
TZOFFSETTO:-0500
TZNAME:EST
DTSTART:20181104T060000
END:STANDARD
BEGIN:DAYLIGHT
TZOFFSETFROM:-0500
TZOFFSETTO:-0400
TZNAME:EDT
DTSTART:20190310T070000
END:DAYLIGHT
BEGIN:STANDARD
TZOFFSETFROM:-0400
TZOFFSETTO:-0500
TZNAME:EST
DTSTART:20191103T060000
END:STANDARD
END:VTIMEZONE
BEGIN:VEVENT
DTSTART;TZID=America/Kentucky/Louisville:20181102T150000
DTEND;TZID=America/Kentucky/Louisville:20181102T150000
DTSTAMP:20260419T082750
CREATED:20181101T145746Z
LAST-MODIFIED:20181101T150708Z
UID:1423-1541170800-1541170800@www.danvillearts.org
SUMMARY:Stephen Nasser - Author Talk
DESCRIPTION:Stephen Nasser\, Holocaust survivor and author/playwright\, will talk about his experiences as a young boy.  His topic is “My Bother’s Voice.”  Mr. Nasser is in town for the Bate student production of his play\,  Not Yet\, Pista\, this weekend at Gravely Hall. \nThe Library talk is free and open to the public. \nThe Bate student production is sponsored\, in part\, by the Scarlet Cup.
URL:https://www.danvillearts.org/event/stephen-nasser-author-talk/
LOCATION:Boyle County Public Library\, 307 West Broadway St.\, Danville\, KY\, 40422
CATEGORIES:All,Community Events,Scarlet Cup
END:VEVENT
BEGIN:VEVENT
DTSTART;TZID=America/Kentucky/Louisville:20181103T193000
DTEND;TZID=America/Kentucky/Louisville:20181103T193000
DTSTAMP:20260419T082750
CREATED:20181101T151017Z
LAST-MODIFIED:20181101T151017Z
UID:1425-1541273400-1541273400@www.danvillearts.org
SUMMARY:200 Strong
DESCRIPTION:Centre Choir will perform with several other choirs in a free and open to the public concert.
URL:https://www.danvillearts.org/event/200-strong/
LOCATION:Newlin Hall at Centre College
CATEGORIES:All,Community Events
END:VEVENT
BEGIN:VEVENT
DTSTART;TZID=America/Kentucky/Louisville:20181112T173000
DTEND;TZID=America/Kentucky/Louisville:20181112T173000
DTSTAMP:20260419T082750
CREATED:20181101T153929Z
LAST-MODIFIED:20190210T191443Z
UID:1439-1542043800-1542043800@www.danvillearts.org
SUMMARY:Writer's Group
DESCRIPTION:Regular monthly meeting – new members are welcome.
URL:https://www.danvillearts.org/event/writers-group-3/
LOCATION:KY
CATEGORIES:All,Community Events
END:VEVENT
BEGIN:VEVENT
DTSTART;TZID=America/Kentucky/Louisville:20181114T120000
DTEND;TZID=America/Kentucky/Louisville:20181114T120000
DTSTAMP:20260419T082750
CREATED:20181101T160521Z
LAST-MODIFIED:20181101T160521Z
UID:1465-1542196800-1542196800@www.danvillearts.org
SUMMARY:Lunch with the Arts
DESCRIPTION:Lydia DiMartino-Ellis will discuss therapeutic music.
URL:https://www.danvillearts.org/event/lunch-with-the-arts-3/
LOCATION:Community Arts Center\, 401 West Main St.
CATEGORIES:All,Community Events
END:VEVENT
END:VCALENDAR