BEGIN:VCALENDAR
VERSION:2.0
PRODID:-//The Arts Commission of Danville / Boyle County - ECPv6.15.20//NONSGML v1.0//EN
CALSCALE:GREGORIAN
METHOD:PUBLISH
X-WR-CALNAME:The Arts Commission of Danville / Boyle County
X-ORIGINAL-URL:https://www.danvillearts.org
X-WR-CALDESC:Events for The Arts Commission of Danville / Boyle County
REFRESH-INTERVAL;VALUE=DURATION:PT1H
X-Robots-Tag:noindex
X-PUBLISHED-TTL:PT1H
BEGIN:VTIMEZONE
TZID:America/Kentucky/Louisville
BEGIN:DAYLIGHT
TZOFFSETFROM:-0500
TZOFFSETTO:-0400
TZNAME:EDT
DTSTART:20200308T070000
END:DAYLIGHT
BEGIN:STANDARD
TZOFFSETFROM:-0400
TZOFFSETTO:-0500
TZNAME:EST
DTSTART:20201101T060000
END:STANDARD
BEGIN:DAYLIGHT
TZOFFSETFROM:-0500
TZOFFSETTO:-0400
TZNAME:EDT
DTSTART:20210314T070000
END:DAYLIGHT
BEGIN:STANDARD
TZOFFSETFROM:-0400
TZOFFSETTO:-0500
TZNAME:EST
DTSTART:20211107T060000
END:STANDARD
BEGIN:DAYLIGHT
TZOFFSETFROM:-0500
TZOFFSETTO:-0400
TZNAME:EDT
DTSTART:20220313T070000
END:DAYLIGHT
BEGIN:STANDARD
TZOFFSETFROM:-0400
TZOFFSETTO:-0500
TZNAME:EST
DTSTART:20221106T060000
END:STANDARD
END:VTIMEZONE
BEGIN:VEVENT
DTSTART;TZID=America/Kentucky/Louisville:20210910T190000
DTEND;TZID=America/Kentucky/Louisville:20210910T210000
DTSTAMP:20260420T233348
CREATED:20210831T203954Z
LAST-MODIFIED:20210831T203954Z
UID:2223-1631300400-1631307600@www.danvillearts.org
SUMMARY:Art-full Affair September 10 -Preview Party and September 11 - Draw Party
DESCRIPTION:  \nGaynella McGuire’s watercolor on Japanese masa paper could be yours. \nFundraiser for programs for children and scholarships.  Every ticket is a winner. \nContact arts@historicdanvilleky.com for ticket information and reservations
URL:https://www.danvillearts.org/event/art-full-affair-september-10-preview-party-and-september-11-draw-party/
LOCATION:Pioneer Playhouse\, 840 Stanford Rd\, Danville\, KY\, 40422\, United States
CATEGORIES:All,Arts Commission,Community Events
END:VEVENT
END:VCALENDAR