BEGIN:VCALENDAR
VERSION:2.0
PRODID:-//The Arts Commission of Danville / Boyle County - ECPv6.15.20//NONSGML v1.0//EN
CALSCALE:GREGORIAN
METHOD:PUBLISH
X-ORIGINAL-URL:https://www.danvillearts.org
X-WR-CALDESC:Events for The Arts Commission of Danville / Boyle County
REFRESH-INTERVAL;VALUE=DURATION:PT1H
X-Robots-Tag:noindex
X-PUBLISHED-TTL:PT1H
BEGIN:VTIMEZONE
TZID:America/Kentucky/Louisville
BEGIN:DAYLIGHT
TZOFFSETFROM:-0500
TZOFFSETTO:-0400
TZNAME:EDT
DTSTART:20170312T070000
END:DAYLIGHT
BEGIN:STANDARD
TZOFFSETFROM:-0400
TZOFFSETTO:-0500
TZNAME:EST
DTSTART:20171105T060000
END:STANDARD
BEGIN:DAYLIGHT
TZOFFSETFROM:-0500
TZOFFSETTO:-0400
TZNAME:EDT
DTSTART:20180311T070000
END:DAYLIGHT
BEGIN:STANDARD
TZOFFSETFROM:-0400
TZOFFSETTO:-0500
TZNAME:EST
DTSTART:20181104T060000
END:STANDARD
BEGIN:DAYLIGHT
TZOFFSETFROM:-0500
TZOFFSETTO:-0400
TZNAME:EDT
DTSTART:20190310T070000
END:DAYLIGHT
BEGIN:STANDARD
TZOFFSETFROM:-0400
TZOFFSETTO:-0500
TZNAME:EST
DTSTART:20191103T060000
END:STANDARD
END:VTIMEZONE
BEGIN:VEVENT
DTSTART;TZID=America/Kentucky/Louisville:20181006T100000
DTEND;TZID=America/Kentucky/Louisville:20181006T160000
DTSTAMP:20260420T172006
CREATED:20181002T162258Z
LAST-MODIFIED:20181002T162258Z
UID:1252-1538820000-1538841600@www.danvillearts.org
SUMMARY:Civil War Quilt Exhibit
DESCRIPTION:Exhibit of Civil War era replica and antique quilts as well as demonstrations of quilting\, and vintage and antique sewing machines. \nFree and open to the public.  Donations accepted. \nEvent sponsored by the Arts Commission and the Pieceable Friends Quilt Guild.
URL:https://www.danvillearts.org/event/civil-war-quilt-exhibit/
LOCATION:Perryville Jamboree\, 103 N. Bragg St.\, Perryville\, Kentucky\, 40468
CATEGORIES:All,Arts Commission,Community Events
END:VEVENT
BEGIN:VEVENT
DTSTART;TZID=America/Kentucky/Louisville:20181005T200000
DTEND;TZID=America/Kentucky/Louisville:20181005T200000
DTSTAMP:20260420T172006
CREATED:20181002T163901Z
LAST-MODIFIED:20181010T190345Z
UID:1260-1538769600-1538769600@www.danvillearts.org
SUMMARY:Scarlet Cup Theater
DESCRIPTION:Departures by John Godber.  American premier of British play about the comings and goings of travelers in nine airports around the world.  The play is staged in the terminal of the Danville – Boyle County Airport\, Stuart Powell Field. \nTea and “biscuits” will be served at intermission.  Elmwood Inn Fine Teas has created a special blend “Scarlet Cup” for your enjoyment. \nTickets on line at the Arts Commission web site\, danvillearts.org or at the airport night of show\, if available. \nArts Commission serves as the fiscal sponsor of the Scarlet Cup Theatre.
URL:https://www.danvillearts.org/event/scarlet-cup-theatre-2018-10-05/
LOCATION:Danville – Boyle County Airport\, 420 Airport Road\, Junction City\, Kentucky\, 40440
CATEGORIES:All,Scarlet Cup
END:VEVENT
END:VCALENDAR