BEGIN:VCALENDAR
VERSION:2.0
PRODID:-//The Arts Commission of Danville / Boyle County - ECPv6.15.20//NONSGML v1.0//EN
CALSCALE:GREGORIAN
METHOD:PUBLISH
X-ORIGINAL-URL:https://www.danvillearts.org
X-WR-CALDESC:Events for The Arts Commission of Danville / Boyle County
REFRESH-INTERVAL;VALUE=DURATION:PT1H
X-Robots-Tag:noindex
X-PUBLISHED-TTL:PT1H
BEGIN:VTIMEZONE
TZID:America/Kentucky/Louisville
BEGIN:DAYLIGHT
TZOFFSETFROM:-0500
TZOFFSETTO:-0400
TZNAME:EDT
DTSTART:20170312T070000
END:DAYLIGHT
BEGIN:STANDARD
TZOFFSETFROM:-0400
TZOFFSETTO:-0500
TZNAME:EST
DTSTART:20171105T060000
END:STANDARD
BEGIN:DAYLIGHT
TZOFFSETFROM:-0500
TZOFFSETTO:-0400
TZNAME:EDT
DTSTART:20180311T070000
END:DAYLIGHT
BEGIN:STANDARD
TZOFFSETFROM:-0400
TZOFFSETTO:-0500
TZNAME:EST
DTSTART:20181104T060000
END:STANDARD
BEGIN:DAYLIGHT
TZOFFSETFROM:-0500
TZOFFSETTO:-0400
TZNAME:EDT
DTSTART:20190310T070000
END:DAYLIGHT
BEGIN:STANDARD
TZOFFSETFROM:-0400
TZOFFSETTO:-0500
TZNAME:EST
DTSTART:20191103T060000
END:STANDARD
END:VTIMEZONE
BEGIN:VEVENT
DTSTART;TZID=America/Kentucky/Louisville:20180912T173000
DTEND;TZID=America/Kentucky/Louisville:20180912T173000
DTSTAMP:20260420T172041
CREATED:20180828T182535Z
LAST-MODIFIED:20180911T144124Z
UID:976-1536773400-1536773400@www.danvillearts.org
SUMMARY:Arts Commission Board Meeting
DESCRIPTION:Regular monthly meeting.  Visitors welcome. \nIf you have suggestions of activities for the Arts Commission\, we are always interested in new ways to serve the arts community.  Contact Mimi Becker at arts@historicdanvilleky.com
URL:https://www.danvillearts.org/event/arts-commission-board-meeting/
LOCATION:McKinney Conference Center\, Constitution Square\, Danville\, KY\, 40422
CATEGORIES:All,Arts Commission
END:VEVENT
END:VCALENDAR